BEGIN:VCALENDAR
VERSION:2.0
PRODID:-//ChamberMaster//Event Calendar 2.0//EN
METHOD:PUBLISH
X-PUBLISHED-TTL:P3D
REFRESH-INTERVAL:P3D
CALSCALE:GREGORIAN
BEGIN:VEVENT
DTSTART:20231112T170000Z
DTEND:20231112T190000Z
X-MICROSOFT-CDO-ALLDAYEVENT:FALSE
SUMMARY:Authentic Indian Cuisine Pop-up Event
DESCRIPTION:Come celebrate Diwali and indulge in the aromatic spices and bold flavors of authentic Indian cuisine. Join cook Anita Jogi and family for a traditional Diwali Indian feast at Pine Hill Nursery. You won't want to miss this joyous celebration of Diwali and Indian food. NOVEMBER 12 FROM 12-2 AT PINE HILL NURSERY in KEWADIN Limited amounts of food will be available. Please reserve your space by emailing anita.jogi@gmail.com $25 per person/ $5 for children under 10. This price includes all food and drinks. CASH or CHECK ONLY PLEASE at time of service. Thank you.
X-ALT-DESC;FMTTYPE=text/html:Come celebrate Diwali and indulge in the aromatic spices and bold flavors of authentic Indian cuisine. Join cook Anita Jogi and family for a traditional Diwali Indian feast at Pine Hill Nursery. You won&#39\;t want to miss this joyous celebration of Diwali and Indian food. NOVEMBER 12 FROM 12-2 AT PINE HILL NURSERY in KEWADIN Limited amounts of food will be available. Please reserve your space by emailing <a href="mailto:anita.jogi@gmail.com">anita.jogi@gmail.com</a> $25 per person/ $5 for children under 10. This price includes all food and drinks. CASH or CHECK ONLY PLEASE at time of service. Thank you.
LOCATION:Pine Hill Nursery
UID:e.2409.39382
SEQUENCE:3
DTSTAMP:20260419T175440Z
URL:https://business.elkrapidschamber.org/events/details/authentic-indian-cuisine-pop-up-event-39382
END:VEVENT

END:VCALENDAR
