BEGIN:VCALENDAR
VERSION:2.0
PRODID:-//ChamberMaster//Event Calendar 2.0//EN
METHOD:PUBLISH
X-PUBLISHED-TTL:P3D
REFRESH-INTERVAL:P3D
CALSCALE:GREGORIAN
BEGIN:VEVENT
DTSTART:20190718T120000Z
DTEND:20190718T200000Z
X-MICROSOFT-CDO-ALLDAYEVENT:FALSE
SUMMARY:Asist: Help save a life
DESCRIPTION:Learn the skills to help save a life. Suicide is preventable. Anyone can make a difference.\n\nTwo-day workshop in suicide intervention skills\n\n Learn and practice a life-saving intervention model.\n\nWidely used by professionals and the general public.\n\n\n\nJuly 17 and 18. Both days are required.
X-ALT-DESC;FMTTYPE=text/html:Learn the skills to help save a life. Suicide is preventable. Anyone can make a difference.<br />\nTwo-day workshop in suicide intervention skills<br />\n&nbsp\;Learn and practice a life-saving intervention model.<br />\nWidely used by professionals and the general public.<br />\n<br />\nJuly 17 and 18. Both days are required.
LOCATION:Torch Lake Township Building
UID:e.2409.20120
SEQUENCE:3
DTSTAMP:20260424T171324Z
URL:https://business.elkrapidschamber.org/events/details/asist-help-save-a-life-20120
END:VEVENT

END:VCALENDAR
