BEGIN:VCALENDAR
VERSION:2.0
PRODID:-//ChamberMaster//Event Calendar 2.0//EN
METHOD:PUBLISH
X-PUBLISHED-TTL:P3D
REFRESH-INTERVAL:P3D
CALSCALE:GREGORIAN
BEGIN:VEVENT
DTSTART:20190525T140000Z
DTEND:20190525T200000Z
X-MICROSOFT-CDO-ALLDAYEVENT:FALSE
SUMMARY:Arts & Crafts Show
DESCRIPTION:Come enjoy our Annual Arts and Crafts Shows\, located in the heart of the village adjacent to beautiful Elk Rapids Harbor. Our shows feature more than 70 different artisans who display\, sell\, and demonstrate their work.\n\n\n\nSponsored by:  Chemical Bank
X-ALT-DESC;FMTTYPE=text/html:<p class="MsoNormal"><span style="font-size: 12pt\;">Come enjoy our Annual Arts and Crafts Shows\, located in the heart of the village&nbsp\;adjacent to beautiful Elk Rapids Harbor. Our shows feature more than 70 different artisans who display\, sell\, and demonstrate their work.<br />\n<br />\n<span style="color: rgb(0\, 128\, 0)\;"><strong>Sponsored by:&nbsp\; Chemical Bank</strong></span><br />\n<o:p></o:p></span></p>\n
LOCATION:Downtown Elk Rapids
UID:e.2409.17714
SEQUENCE:3
DTSTAMP:20260426T002527Z
URL:https://business.elkrapidschamber.org/events/details/arts-crafts-show-17714
END:VEVENT

END:VCALENDAR
