BEGIN:VCALENDAR
VERSION:2.0
PRODID:-//ChamberMaster//Event Calendar 2.0//EN
METHOD:PUBLISH
X-PUBLISHED-TTL:P3D
REFRESH-INTERVAL:P3D
CALSCALE:GREGORIAN
BEGIN:VEVENT
DTSTART:20220528T140000Z
DTEND:20220528T200000Z
X-MICROSOFT-CDO-ALLDAYEVENT:FALSE
SUMMARY:Arts & Crafts Show
DESCRIPTION:Come enjoy our Annual Arts and Crafts Show\, located in the heart of the village adjacent to the beautiful Elk Rapids Harbor. Our shows feature more than 50 different artisans who display\, sell\, and demonstrate their work.
X-ALT-DESC;FMTTYPE=text/html:<p class="MsoNormal"><span style="font-size: 12pt\;">Come enjoy our Annual Arts and Crafts Show\, located in the heart of the village&nbsp\;adjacent to the beautiful Elk Rapids Harbor. Our shows feature more than 50 different artisans who display\, sell\, and demonstrate their work.<br />\n<o:p></o:p></span></p>\n
LOCATION:Downtown Elk Rapids River Street
UID:e.2409.28250
SEQUENCE:3
DTSTAMP:20260420T202730Z
URL:https://business.elkrapidschamber.org/events/details/arts-crafts-show-05-28-2022-28250
END:VEVENT

END:VCALENDAR
