BEGIN:VCALENDAR
VERSION:2.0
PRODID:-//ChamberMaster//Event Calendar 2.0//EN
METHOD:PUBLISH
X-PUBLISHED-TTL:P3D
REFRESH-INTERVAL:P3D
CALSCALE:GREGORIAN
BEGIN:VEVENT
DTSTART:20221109T180000Z
DTEND:20221109T200000Z
X-MICROSOFT-CDO-ALLDAYEVENT:FALSE
SUMMARY:Art Workshop: Vintage Jewelry & Button
DESCRIPTION:
X-ALT-DESC;FMTTYPE=text/html:
LOCATION:965 Green St\, Elk Rapids\, MI 49629
UID:e.2409.33132
SEQUENCE:3
DTSTAMP:20260420T124639Z
URL:https://business.elkrapidschamber.org/events/details/art-workshop-vintage-jewelry-button-33132
END:VEVENT

END:VCALENDAR
