BEGIN:VCALENDAR
VERSION:2.0
PRODID:-//ChamberMaster//Event Calendar 2.0//EN
METHOD:PUBLISH
X-PUBLISHED-TTL:P3D
REFRESH-INTERVAL:P3D
CALSCALE:GREGORIAN
BEGIN:VEVENT
DTSTART:20190815T170000Z
DTEND:20190815T183000Z
X-MICROSOFT-CDO-ALLDAYEVENT:FALSE
SUMMARY:ART: Nature's Patterns
DESCRIPTION:Capture the "feel" of Grass River Natural Area in a collage. We will make rubbings and use 'natural' stamps to create a unique and imaginative work of art. $8 per person. More information at grassriver.org. Grass River Natural Area is located at 6500 Alden Highway\, Bellaire MI.
X-ALT-DESC;FMTTYPE=text/html:<p class="yiv2393859842MsoNormal" style="color: rgb(29\, 34\, 40)\; font-family: &quot\;Helvetica Neue&quot\;\, Helvetica\, Arial\, sans-serif\; font-size: 13px\; background-color: rgb(255\, 255\, 255)\;">Capture the &quot\;feel&quot\; of Grass River Natural Area in a collage. We will make rubbings and use &#39\;natural&#39\; stamps to create a unique and imaginative work of art. $8 per person. More information at grassriver.org. Grass River Natural Area is located at 6500 Alden Highway\, Bellaire MI.</p>\n\n<p class="yiv2393859842MsoNormal" style="color: rgb(29\, 34\, 40)\; font-family: &quot\;Helvetica Neue&quot\;\, Helvetica\, Arial\, sans-serif\; font-size: 13px\; background-color: rgb(255\, 255\, 255)\;">&nbsp\;</p>\n
LOCATION:Grass River Natural Area 6500 Alden Highway Bellaire\, MI 49615
UID:e.2409.20654
SEQUENCE:3
DTSTAMP:20260424T000143Z
URL:https://business.elkrapidschamber.org/events/details/art-nature-s-patterns-20654
END:VEVENT

END:VCALENDAR
