BEGIN:VCALENDAR
VERSION:2.0
PRODID:-//ChamberMaster//Event Calendar 2.0//EN
METHOD:PUBLISH
X-PUBLISHED-TTL:P3D
REFRESH-INTERVAL:P3D
CALSCALE:GREGORIAN
BEGIN:VEVENT
DTSTART:20220928T130000Z
DTEND:20220928T160000Z
X-MICROSOFT-CDO-ALLDAYEVENT:FALSE
SUMMARY:Art & Connection
DESCRIPTION:Glass is a fascinating medium - and once you try using it\, you will be hooked! Using a one-of-a-kind collection of small glass beads\, broken pieces\, and shapes\, teacher-artist Sheri Reid Grant will show you how you can make a canvas come alive by arranging glass on canvas. Works are then sealed in a special resin\, creating a shiny\, ultra glossy work illuminated by the way the light hits the glass. In this workshop\, you will be invited to PLAY\, explore\, and express your unique self. All materials are provided. Ages 16+. Wednesday\, September 28th\, 9am-12pm.\n\nA $100 value\, this workshop is free / for donation / pay what you can or pay-it-forward with acts of kindness in your community.\n\nRSVP required - contact: info@artandconnection.org  / 231-620-4033
X-ALT-DESC;FMTTYPE=text/html:<span style="color: rgb(44\, 54\, 58)\; font-family: Roboto\, sans-serif\; font-size: 14px\; background-color: rgb(255\, 255\, 255)\;">Glass is a fascinating medium - and once you try using it\, you will be hooked! Using a one-of-a-kind collection of small glass beads\, broken pieces\, and shapes\, teacher-artist Sheri Reid Grant will show you how you can make a canvas come alive by arranging glass on canvas. Works are then sealed in a special resin\, creating a shiny\, ultra glossy work illuminated by the way the light hits the glass. In this workshop\, you will be invited to PLAY\, explore\, and express your unique self. All materials are provided. Ages 16+. Wednesday\, September 28th\, 9am-12pm.</span><br style="box-sizing: border-box\; color: rgb(44\, 54\, 58)\; font-family: Roboto\, sans-serif\; font-size: 14px\; background-color: rgb(255\, 255\, 255)\;" />\n<span style="color: rgb(44\, 54\, 58)\; font-family: Roboto\, sans-serif\; font-size: 14px\; background-color: rgb(255\, 255\, 255)\;">A $100 value\, this workshop is free / for donation / pay what you can or pay-it-forward with acts of kindness in your community.</span><br style="box-sizing: border-box\; color: rgb(44\, 54\, 58)\; font-family: Roboto\, sans-serif\; font-size: 14px\; background-color: rgb(255\, 255\, 255)\;" />\n<span style="color: rgb(44\, 54\, 58)\; font-family: Roboto\, sans-serif\; font-size: 14px\; background-color: rgb(255\, 255\, 255)\;">RSVP required - contact:&nbsp\;</span><a href="mailto:info@artandconnection.org" rel="noreferrer" style="box-sizing: border-box\; color: rgb(0\, 172\, 255)\; text-decoration-line: none\; background-color: rgb(255\, 255\, 255)\; font-family: Roboto\, sans-serif\; font-size: 14px\;">info@artandconnection.org</a><span style="color: rgb(44\, 54\, 58)\; font-family: Roboto\, sans-serif\; font-size: 14px\; background-color: rgb(255\, 255\, 255)\;">&nbsp\; / 231-620-4033</span>
LOCATION:Art & Connection
UID:e.2409.32831
SEQUENCE:3
DTSTAMP:20260420T154152Z
URL:https://business.elkrapidschamber.org/events/details/art-connection-09-28-2022-32831
END:VEVENT

END:VCALENDAR
