BEGIN:VCALENDAR
VERSION:2.0
PRODID:-//ChamberMaster//Event Calendar 2.0//EN
METHOD:PUBLISH
X-PUBLISHED-TTL:P3D
REFRESH-INTERVAL:P3D
CALSCALE:GREGORIAN
BEGIN:VEVENT
DTSTART:20190708T140000Z
DTEND:20190712T183000Z
X-MICROSOFT-CDO-ALLDAYEVENT:FALSE
SUMMARY:Art Camp
DESCRIPTION:Explore the artist within you as you work with glass\, clay\, fiber\, metal and other materials to express your creative side. Bring a bag lunch\, hat\, sunscreen\, and insect repellent each day.
X-ALT-DESC;FMTTYPE=text/html:Explore the artist within you as you work with glass\, clay\, fiber\, metal and other materials to express your creative side. Bring a bag lunch\, hat\, sunscreen\, and insect repellent each day.
LOCATION:Raven Hill Discovery Center 4737 Fuller Road East Jordan\, MI 49727
UID:e.2409.19327
SEQUENCE:3
DTSTAMP:20260425T141324Z
URL:https://business.elkrapidschamber.org/events/details/art-camp-19327
END:VEVENT

END:VCALENDAR
