BEGIN:VCALENDAR
VERSION:2.0
PRODID:-//ChamberMaster//Event Calendar 2.0//EN
METHOD:PUBLISH
X-PUBLISHED-TTL:P3D
REFRESH-INTERVAL:P3D
CALSCALE:GREGORIAN
BEGIN:VEVENT
DTSTART:20240105T180000Z
DTEND:20240105T210000Z
X-MICROSOFT-CDO-ALLDAYEVENT:FALSE
SUMMARY:Art and Connection: "Snowman's Hat" Art Class w/ LeRue
DESCRIPTION:"Snowman's Hat" Art class with mixed media\, glass\, and resin with LeRue Werner\n\n \n\nClass (Ages 18+)\n\n\n\n	Free\n\n\n\n(Reservation opens 1 month before the class start date. Read ALL details by clicking on the the event title.) In this make-and-take workshop led by LeRue Werner\, you will create a winter "Snowy Trees and Deer" scene using cut glass\, mixed media\, and resin.
X-ALT-DESC;FMTTYPE=text/html:<div class="neoncrm-event-name" style="box-sizing: border-box\;"><a class="neoncrm-link" href="https://artandconnection.app.neoncrm.com/np/clients/artandconnection/event.jsp?event=491" style="box-sizing: border-box\; color: rgb(51\, 122\, 183)\; text-decoration-line: none\; margin-top: -70px\;">&ldquo\;Snowman&rsquo\;s Hat&rdquo\; Art class with mixed media\, glass\, and resin with LeRue Werner</a></div>\n\n<div class="neoncrm-event-thumbnail" style="box-sizing: border-box\;">&nbsp\;</div>\n\n<div class="neoncrm-event-category" style="box-sizing: border-box\;">Class (Ages 18+)</div>\n\n<div class="neoncrm-event-admission" style="box-sizing: border-box\;">\n<ul style="box-sizing: border-box\; margin-top: 0px\; margin-bottom: 10px\;">\n	<li style="box-sizing: border-box\;">Free</li>\n</ul>\n</div>\n\n<div class="neoncrm-event-summary" style="box-sizing: border-box\;">(Reservation opens 1 month before the class start date. Read ALL details by clicking on the the event title.) In this make-and-take workshop led by LeRue Werner\, you will create a winter &ldquo\;Snowy Trees and Deer&rdquo\; scene using cut glass\, mixed media\, and resin.</div>\n\n<div class="neoncrm-event-register-button" style="box-sizing: border-box\;">&nbsp\;</div>\n
LOCATION:Address: 965 Green St\, Elk Rapids\, MI 49629
UID:e.2409.38463
SEQUENCE:3
DTSTAMP:20260419T122155Z
URL:https://business.elkrapidschamber.org/events/details/art-and-connection-snowman-s-hat-art-class-w-lerue-38463
END:VEVENT

END:VCALENDAR
