BEGIN:VCALENDAR
VERSION:2.0
PRODID:-//ChamberMaster//Event Calendar 2.0//EN
METHOD:PUBLISH
X-PUBLISHED-TTL:P3D
REFRESH-INTERVAL:P3D
CALSCALE:GREGORIAN
BEGIN:VEVENT
DTSTART:20230623T140000Z
DTEND:20230623T170000Z
X-MICROSOFT-CDO-ALLDAYEVENT:FALSE
SUMMARY:Art and Connection: Paint a Wine Bottle Still Life w/ Richard Gunsch
DESCRIPTION:Paint a Wine Bottle Still Life (Art Class w/ Richard Gunsch)\n\n \nClass (Ages 18+)\n\n\n\n	Free\n\n\n\n(OPEN for registration. Please read ALL details.) Create a wine bottle on canvas while being guided through techniques used by the Old Masters to mix historic colors and use layering techniques to create the beautiful looks of three dimensional object(s) in 2D.
X-ALT-DESC;FMTTYPE=text/html:<u>Paint a Wine Bottle Still Life (Art Class w/ Richard Gunsch)</u><br />\n&nbsp\;\n<div class="neoncrm-event-category" style="box-sizing: border-box\; font-family: Verdana\, sans-serif\; font-size: 14px\; background-color: rgb(238\, 238\, 238)\;">Class (Ages 18+)</div>\n\n<div class="neoncrm-event-admission" style="box-sizing: border-box\; font-family: Verdana\, sans-serif\; font-size: 14px\; background-color: rgb(238\, 238\, 238)\;">\n<ul style="box-sizing: border-box\; margin-top: 0px\; margin-bottom: 10px\;">\n	<li style="box-sizing: border-box\;">Free</li>\n</ul>\n</div>\n\n<div class="neoncrm-event-summary" style="box-sizing: border-box\; color: rgb(51\, 51\, 51)\; font-family: Verdana\, sans-serif\; font-size: 14px\; background-color: rgb(238\, 238\, 238)\;">(OPEN for registration. Please read ALL details.) Create a wine bottle on canvas while being guided through techniques used by the Old Masters to mix historic colors and use layering techniques to create the beautiful looks of three dimensional object(s) in 2D.</div>\n
LOCATION:965 Green St\, Elk Rapids\, MI 49629
UID:e.2409.38407
SEQUENCE:3
DTSTAMP:20260420T022444Z
URL:https://business.elkrapidschamber.org/events/details/art-and-connection-paint-a-wine-bottle-still-life-w-richard-gunsch-38407
END:VEVENT

END:VCALENDAR
