BEGIN:VCALENDAR
VERSION:2.0
PRODID:-//ChamberMaster//Event Calendar 2.0//EN
METHOD:PUBLISH
X-PUBLISHED-TTL:P3D
REFRESH-INTERVAL:P3D
CALSCALE:GREGORIAN
BEGIN:VEVENT
DTSTART:20231117T180000Z
DTEND:20231117T210000Z
X-MICROSOFT-CDO-ALLDAYEVENT:FALSE
SUMMARY:Art and Connection: "Little Red Wagon & Gifts" Art Class w/ LeRue
DESCRIPTION:"Little Red Wagon & Gifts" Art class with mixed media\, glass\, and resin with LeRue Werner\n\n			 \n			\n			\n			Class (Ages 18+)\n\n			\n			\n				Free\n			\n			\n\n			(Reservation opens 1 month before the class start date. Read ALL details by clicking on the title in blue.) In this make-and-take workshop led by LeRue Werner\, you will create a "Little Red Wagon & Gifts" using cut glass\, mixed media\, and resin.
X-ALT-DESC;FMTTYPE=text/html:<table class="neoncrm-event-list-table" style="border-spacing: 0px\; border-collapse: collapse\; background-color: rgb(255\, 255\, 255)\; color: rgb(51\, 51\, 51)\; font-family: Verdana\, sans-serif\; font-size: 14px\;">\n	<tbody style="box-sizing: border-box\;">\n		<tr bgcolor="#DDDDDD" style="box-sizing: border-box\;">\n			<td style="box-sizing: border-box\;">\n			<div class="neoncrm-event-name" style="box-sizing: border-box\;"><a class="neoncrm-link" href="https://artandconnection.app.neoncrm.com/np/clients/artandconnection/event.jsp?event=471" style="box-sizing: border-box\; background-color: transparent\; color: rgb(51\, 122\, 183)\; text-decoration-line: none\; margin-top: -70px\;">&ldquo\;Little Red Wagon &amp\; Gifts&rdquo\; Art class with mixed media\, glass\, and resin with LeRue Werner</a></div>\n\n			<div class="neoncrm-event-thumbnail" style="box-sizing: border-box\;">&nbsp\;</div>\n			</td>\n			<td style="box-sizing: border-box\;">\n			<div class="neoncrm-event-category" style="box-sizing: border-box\;">Class (Ages 18+)</div>\n\n			<div class="neoncrm-event-admission" style="box-sizing: border-box\;">\n			<ul style="box-sizing: border-box\; margin-top: 0px\; margin-bottom: 10px\;">\n				<li style="box-sizing: border-box\;">Free</li>\n			</ul>\n			</div>\n\n			<div class="neoncrm-event-summary" style="box-sizing: border-box\;">(Reservation opens 1 month before the class start date. Read ALL details by clicking on the title in blue.) In this make-and-take workshop led by LeRue Werner\, you will create a &ldquo\;Little Red Wagon &amp\; Gifts&rdquo\; using cut glass\, mixed media\, and resin.</div>\n			</td>\n		</tr>\n	</tbody>\n</table>\n
LOCATION:Address: 965 Green St\, Elk Rapids\, MI 49629
UID:e.2409.38460
SEQUENCE:3
DTSTAMP:20260419T180212Z
URL:https://business.elkrapidschamber.org/events/details/art-and-connection-little-red-wagon-gifts-art-class-w-lerue-38460
END:VEVENT

END:VCALENDAR
