BEGIN:VCALENDAR
VERSION:2.0
PRODID:-//ChamberMaster//Event Calendar 2.0//EN
METHOD:PUBLISH
X-PUBLISHED-TTL:P3D
REFRESH-INTERVAL:P3D
CALSCALE:GREGORIAN
BEGIN:VEVENT
DTSTART:20190422T173000Z
DTEND:20190422T190000Z
X-MICROSOFT-CDO-ALLDAYEVENT:FALSE
SUMMARY:Apprenticeship Information Session
DESCRIPTION:All types and sizes of businesses from across Northwest Lower Michigan seeking Information Technology employees are invited to attend an apprenticeship information session Monday\, April 22 in Traverse City. The information session will run from Noon to 1:30 pm at the Northwest Michigan Works! American Job Center\, 1209 S. Garfield Ave.\n\n \n\nThe session will include information about what an apprenticeship is\, the process of developing a program\, and using apprenticeships to fill workforce gaps. Occupations discussed will include Computer Support Specialist\, Cyber Security Tech\, Computer Programmer\, IT Project Manager\, IT Generalist\, Health Information Management\, Customer Service Representative\, and more. The event will also provide an overview of potential funding options and career pathways in the information technology field.\n\n \n\nThere is no charge to attend the information session. Employers should RSVP to either Evelyn.Szpliet@NetworksNorthwest.org or Susan.Ward@NetworksNorthwest.org.\n\n \n\nRegistered apprenticeships are offered through the U.S. Department of Labor and are a proven training method for employers to build a talent pipeline of highly skilled\, educated employees. Northwest Michigan Works! provides technical assistance and administrative support for registered apprenticeships\, including development and implementation guidance.
X-ALT-DESC;FMTTYPE=text/html:<div style="background-color: transparent\; color: rgb(0\, 0\, 0)\; font-family: Arial\,Verdana\,Helvetica\,sans-serif\; font-size: 14px\; font-style: normal\; font-variant: normal\; font-weight: 400\; letter-spacing: normal\; orphans: 2\; text-align: left\; text-decoration: none\; text-indent: 0px\; text-transform: none\; -webkit-text-stroke-width: 0px\; white-space: normal\; word-spacing: 0px\;"><span style="font-family: Arial\,Verdana\,Helvetica\,sans-serif\; font-size: 12px\; font-weight: 700\;">All types and sizes of businesses</span><span style="color: rgb(0\, 0\, 0)\; font-family: Arial\,Verdana\,Helvetica\,sans-serif\; font-size: 12px\; font-weight: 700\;">&nbsp\;</span><span style="color: rgb(0\, 0\, 0)\; font-family: Arial\,Verdana\,Helvetica\,sans-serif\; font-size: 12px\; font-weight: 700\; text-decoration: none\;">from across</span><a rel="nofollow" style="color: rgb(0\, 0\, 0)\; font-family: Arial\,Verdana\,Helvetica\,sans-serif\; font-size: 12px\; font-style: normal\; font-weight: 700\; text-decoration: none\;"> </a><span style="color: rgb(0\, 0\, 0)\; font-family: Arial\,Verdana\,Helvetica\,sans-serif\; font-size: 12px\; font-weight: 700\; text-decoration: none\;">Northwest Lower Michigan</span><span style="color: rgb(0\, 0\, 204)\; font-family: Arial\,Verdana\,Helvetica\,sans-serif\; font-size: 12px\; font-weight: 700\;">&nbsp\;</span><span style="font-family: Arial\,Verdana\,Helvetica\,sans-serif\; font-size: 12px\; font-weight: 700\;">seeking Information Technology employees are invited to attend an apprenticeship information session Monday\, April 22 in Traverse City. The information session will run from Noon to 1:30 pm at the Northwest Michigan Works! American Job Center\, 1209 S. Garfield Ave.</span></div>\n\n<div style="background-color: transparent\; color: rgb(0\, 0\, 0)\; font-family: Arial\,Verdana\,Helvetica\,sans-serif\; font-size: 14px\; font-style: normal\; font-variant: normal\; font-weight: 400\; letter-spacing: normal\; orphans: 2\; text-align: left\; text-decoration: none\; text-indent: 0px\; text-transform: none\; -webkit-text-stroke-width: 0px\; white-space: normal\; word-spacing: 0px\;"><span style="font-family: Arial\,Verdana\,Helvetica\,sans-serif\; font-size: 12px\; font-weight: 700\;">&nbsp\;</span></div>\n\n<div style="background-color: transparent\; color: rgb(0\, 0\, 0)\; font-family: Arial\,Verdana\,Helvetica\,sans-serif\; font-size: 14px\; font-style: normal\; font-variant: normal\; font-weight: 400\; letter-spacing: normal\; orphans: 2\; text-align: left\; text-decoration: none\; text-indent: 0px\; text-transform: none\; -webkit-text-stroke-width: 0px\; white-space: normal\; word-spacing: 0px\;"><span style="font-family: Arial\,Verdana\,Helvetica\,sans-serif\; font-size: 12px\; font-weight: 700\;">The session will include information about what an apprenticeship is\, the process of developing a program\, and using apprenticeships to fill workforce gaps. Occupations discussed will include Computer Support Specialist\, Cyber Security Tech\, Computer Programmer\, IT Project Manager\, IT Generalist\, Health Information Management\, Customer Service Representative\, and more.&nbsp\;The event will also provide an overview of potential funding options and career pathways in the information technology field.</span></div>\n\n<div style="background-color: transparent\; color: rgb(0\, 0\, 0)\; font-family: Arial\,Verdana\,Helvetica\,sans-serif\; font-size: 14px\; font-style: normal\; font-variant: normal\; font-weight: 400\; letter-spacing: normal\; orphans: 2\; text-align: left\; text-decoration: none\; text-indent: 0px\; text-transform: none\; -webkit-text-stroke-width: 0px\; white-space: normal\; word-spacing: 0px\;"><span style="font-family: Arial\,Verdana\,Helvetica\,sans-serif\; font-size: 12px\; font-weight: 700\;">&nbsp\;</span></div>\n\n<div style="background-color: transparent\; color: rgb(0\, 0\, 0)\; font-family: Arial\,Verdana\,Helvetica\,sans-serif\; font-size: 14px\; font-style: normal\; font-variant: normal\; font-weight: 400\; letter-spacing: normal\; orphans: 2\; text-align: left\; text-decoration: none\; text-indent: 0px\; text-transform: none\; -webkit-text-stroke-width: 0px\; white-space: normal\; word-spacing: 0px\;"><span style="font-family: Arial\,Verdana\,Helvetica\,sans-serif\; font-size: 12px\; font-weight: 700\;">There is no charge to attend the information session. Employers should RSVP to either </span><a rel="nofollow" style="color: rgb(54\, 97\, 189)\; font-family: Arial\,Verdana\,Helvetica\,sans-serif\; font-size: 12px\; font-style: normal\; font-weight: 700\; text-decoration: underline\;" target="_blank" ymailto="mailto:Evelyn.Szpliet@NetworksNorthwest.org">Evelyn.Szpliet@NetworksNorthwest.org</a><span style="font-family: Arial\,Verdana\,Helvetica\,sans-serif\; font-size: 12px\; font-weight: 700\;"> or </span><a rel="nofollow" style="color: rgb(54\, 97\, 189)\; font-family: Arial\,Verdana\,Helvetica\,sans-serif\; font-size: 12px\; font-style: normal\; font-weight: 700\; text-decoration: underline\;" target="_blank" ymailto="mailto:Susan.Ward@NetworksNorthwest.org">Susan.Ward@NetworksNorthwest.org</a><span style="font-family: Arial\,Verdana\,Helvetica\,sans-serif\; font-size: 12px\; font-weight: 700\;">.</span></div>\n\n<div style="background-color: transparent\; color: rgb(0\, 0\, 0)\; font-family: Arial\,Verdana\,Helvetica\,sans-serif\; font-size: 14px\; font-style: normal\; font-variant: normal\; font-weight: 400\; letter-spacing: normal\; orphans: 2\; text-align: left\; text-decoration: none\; text-indent: 0px\; text-transform: none\; -webkit-text-stroke-width: 0px\; white-space: normal\; word-spacing: 0px\;"><span style="font-family: Arial\,Verdana\,Helvetica\,sans-serif\; font-size: 12px\; font-weight: 700\;">&nbsp\;</span></div>\n\n<div style="background-color: transparent\; color: rgb(0\, 0\, 0)\; font-family: Arial\,Verdana\,Helvetica\,sans-serif\; font-size: 14px\; font-style: normal\; font-variant: normal\; font-weight: 400\; letter-spacing: normal\; orphans: 2\; text-align: left\; text-decoration: none\; text-indent: 0px\; text-transform: none\; -webkit-text-stroke-width: 0px\; white-space: normal\; word-spacing: 0px\;"><span style="font-family: Arial\,Verdana\,Helvetica\,sans-serif\; font-size: 12px\; font-weight: 700\;">Registered apprenticeships are offered through the U.S. Department of Labor and are a proven training method for employers to build a talent pipeline of highly skilled\, educated employees. Northwest Michigan Works! provides technical assistance and administrative support for registered apprenticeships\, including development and implementation guidance.&nbsp\;</span></div>\n
LOCATION:
UID:e.2409.18604
SEQUENCE:3
DTSTAMP:20260425T164412Z
URL:https://business.elkrapidschamber.org/events/details/apprenticeship-information-session-18604
END:VEVENT

END:VCALENDAR
