BEGIN:VCALENDAR
VERSION:2.0
PRODID:-//ChamberMaster//Event Calendar 2.0//EN
METHOD:PUBLISH
X-PUBLISHED-TTL:P3D
REFRESH-INTERVAL:P3D
CALSCALE:GREGORIAN
BEGIN:VEVENT
DTSTART:20190430T183000Z
DTEND:20190430T200000Z
X-MICROSOFT-CDO-ALLDAYEVENT:FALSE
SUMMARY:Apprenticeship Information Session
DESCRIPTION:All types and sizes of manufacturing related employers from across Northwest Lower Michigan are invited to attend an apprenticeship information session Tuesday\, April 30 in Cadillac. The information session will run from 2:30 pm to 4:00 pm at the Northwest Michigan Works! American Job Center\, MSU Extension Conference Room\, 401 N. Lake Street.  \n\n \n\nThe session will include an overview of apprenticeships\, the process of developing a program focused on employer training needs\, and using apprenticeships in support of employee attraction and retention.  \n\nVarious types of manufacturing related occupations will be discussed including Plastic Process Technician\, Maintenance Mechanic\, CNC Operator\, Machine Operator\, Programmable Logistic Controller\, Production Technologist\, Quality Control Tech\, Office Manager\, Computer Applications\, and more. The event will also provide an overview of potential funding options and career pathways in the manufacturing field.  \n\n \n\nAn expert employer panel including Lisa Pepera from Packaging Corporation of America and Carol Mathias from MR Products will be available to answer questions regarding their apprenticeship experience.    \n\n \n\nThere is no charge to attend the information session.  Employers should RSVP to either Evelyn.Szpliet@NetworksNorthwest.org or Susan.Ward@NetworksNorthwest.org.\n\n \n\nRegistered apprenticeships are offered through the U.S. Department of Labor and are a proven training method for employers to build a talent pipeline of highly skilled\, educated employees. Northwest Michigan Works! provides technical assistance and administrative support for registered apprenticeships\, including development and implementation guidance.
X-ALT-DESC;FMTTYPE=text/html:<p class="yiv9927907237MsoNormal" style="background-color: transparent\; color: rgb(29\, 34\, 40)\; font-family: Arial\,sans-serif\; font-size: 16px\; font-style: normal\; font-variant: normal\; font-weight: 400\; letter-spacing: normal\; line-height: 18.66px\; margin-bottom: 0px\; margin-left: 0px\; margin-right: 0px\; margin-top: 0px\; orphans: 2\; text-align: left\; text-decoration: none\; text-indent: 0px\; text-transform: none\; -webkit-text-stroke-width: 0px\; white-space: normal\; word-spacing: 0px\;"><span style="line-height: 18.66px\;">All types and sizes of manufacturing related employers from across Northwest Lower Michigan are invited to attend an apprenticeship information session Tuesday\, April 30 in Cadillac. The information session will run from 2:30 pm to 4:00 pm at the Northwest Michigan Works! American Job Center\, MSU Extension Conference Room\, 401 N. Lake Street. &nbsp\;</span></p>\n\n<p class="yiv9927907237MsoNormal" style="background-color: transparent\; color: rgb(29\, 34\, 40)\; font-family: Arial\,sans-serif\; font-size: 16px\; font-style: normal\; font-variant: normal\; font-weight: 400\; letter-spacing: normal\; line-height: 18.66px\; margin-bottom: 0px\; margin-left: 0px\; margin-right: 0px\; margin-top: 0px\; orphans: 2\; text-align: left\; text-decoration: none\; text-indent: 0px\; text-transform: none\; -webkit-text-stroke-width: 0px\; white-space: normal\; word-spacing: 0px\;"><span style="line-height: 18.66px\;">&nbsp\;</span></p>\n\n<p class="yiv9927907237MsoNormal" style="background-color: transparent\; color: rgb(29\, 34\, 40)\; font-family: Arial\,sans-serif\; font-size: 16px\; font-style: normal\; font-variant: normal\; font-weight: 400\; letter-spacing: normal\; line-height: 18.66px\; margin-bottom: 0px\; margin-left: 0px\; margin-right: 0px\; margin-top: 0px\; orphans: 2\; text-align: left\; text-decoration: none\; text-indent: 0px\; text-transform: none\; -webkit-text-stroke-width: 0px\; white-space: normal\; word-spacing: 0px\;"><span style="line-height: 18.66px\;">The session will include an overview of apprenticeships\, the process of developing a program focused on employer training needs\, and using apprenticeships in support of employee attraction and retention.&nbsp\;&nbsp\;</span></p>\n\n<p class="yiv9927907237MsoNormal" style="background-color: transparent\; color: rgb(29\, 34\, 40)\; font-family: Arial\,sans-serif\; font-size: 16px\; font-style: normal\; font-variant: normal\; font-weight: 400\; letter-spacing: normal\; line-height: 18.66px\; margin-bottom: 0px\; margin-left: 0px\; margin-right: 0px\; margin-top: 0px\; orphans: 2\; text-align: left\; text-decoration: none\; text-indent: 0px\; text-transform: none\; -webkit-text-stroke-width: 0px\; white-space: normal\; word-spacing: 0px\;"><span style="line-height: 18.66px\;">Various types of manufacturing related occupations will be discussed including Plastic Process Technician\, <span>Maintenance Mechanic\, </span>CNC Operator\, Machine Operator\, <span>Programmable Logistic Controller\, </span>Production Technologist\, <span>Quality Control Tech\, Office Manager\,</span> Computer Applications\, and more. The event will also provide an overview of potential funding options and career pathways in the manufacturing field. &nbsp\;</span></p>\n\n<p class="yiv9927907237MsoNormal" style="background-color: transparent\; color: rgb(29\, 34\, 40)\; font-family: Arial\,sans-serif\; font-size: 16px\; font-style: normal\; font-variant: normal\; font-weight: 400\; letter-spacing: normal\; line-height: 18.66px\; margin-bottom: 0px\; margin-left: 0px\; margin-right: 0px\; margin-top: 0px\; orphans: 2\; text-align: left\; text-decoration: none\; text-indent: 0px\; text-transform: none\; -webkit-text-stroke-width: 0px\; white-space: normal\; word-spacing: 0px\;"><span style="line-height: 18.66px\;">&nbsp\;</span></p>\n\n<p class="yiv9927907237MsoNormal" style="background-color: transparent\; color: rgb(29\, 34\, 40)\; font-family: Arial\,sans-serif\; font-size: 16px\; font-style: normal\; font-variant: normal\; font-weight: 400\; letter-spacing: normal\; line-height: 18.66px\; margin-bottom: 0px\; margin-left: 0px\; margin-right: 0px\; margin-top: 0px\; orphans: 2\; text-align: left\; text-decoration: none\; text-indent: 0px\; text-transform: none\; -webkit-text-stroke-width: 0px\; white-space: normal\; word-spacing: 0px\;"><span style="line-height: 18.66px\;">An expert employer panel including Lisa Pepera from Packaging Corporation of America and Carol Mathias from MR Products will be available to answer questions regarding their apprenticeship experience.&nbsp\;&nbsp\;&nbsp\; </span></p>\n\n<p class="yiv9927907237MsoNormal" style="background-color: transparent\; color: rgb(29\, 34\, 40)\; font-family: Arial\,sans-serif\; font-size: 16px\; font-style: normal\; font-variant: normal\; font-weight: 400\; letter-spacing: normal\; line-height: 18.66px\; margin-bottom: 0px\; margin-left: 0px\; margin-right: 0px\; margin-top: 0px\; orphans: 2\; text-align: left\; text-decoration: none\; text-indent: 0px\; text-transform: none\; -webkit-text-stroke-width: 0px\; white-space: normal\; word-spacing: 0px\;"><span style="line-height: 18.66px\;">&nbsp\;</span></p>\n\n<p class="yiv9927907237MsoNormal" style="background-color: transparent\; color: rgb(29\, 34\, 40)\; font-family: Arial\,sans-serif\; font-size: 16px\; font-style: normal\; font-variant: normal\; font-weight: 400\; letter-spacing: normal\; line-height: 18.66px\; margin-bottom: 0px\; margin-left: 0px\; margin-right: 0px\; margin-top: 0px\; orphans: 2\; text-align: left\; text-decoration: none\; text-indent: 0px\; text-transform: none\; -webkit-text-stroke-width: 0px\; white-space: normal\; word-spacing: 0px\;"><span style="line-height: 18.66px\;">There is no charge to attend the information session.&nbsp\; Employers should RSVP to either Evelyn.Szpliet@NetworksNorthwest.org or Susan.Ward@NetworksNorthwest.org.</span></p>\n\n<p class="yiv9927907237MsoNormal" style="background-color: transparent\; color: rgb(29\, 34\, 40)\; font-family: Arial\,sans-serif\; font-size: 16px\; font-style: normal\; font-variant: normal\; font-weight: 400\; letter-spacing: normal\; line-height: 18.66px\; margin-bottom: 0px\; margin-left: 0px\; margin-right: 0px\; margin-top: 0px\; orphans: 2\; text-align: left\; text-decoration: none\; text-indent: 0px\; text-transform: none\; -webkit-text-stroke-width: 0px\; white-space: normal\; word-spacing: 0px\;">&nbsp\;</p>\n\n<p class="yiv9927907237MsoNormal" style="background-color: transparent\; color: rgb(29\, 34\, 40)\; font-family: Arial\,sans-serif\; font-size: 16px\; font-style: normal\; font-variant: normal\; font-weight: 400\; letter-spacing: normal\; line-height: 18.66px\; margin-bottom: 0px\; margin-left: 0px\; margin-right: 0px\; margin-top: 0px\; orphans: 2\; text-align: left\; text-decoration: none\; text-indent: 0px\; text-transform: none\; -webkit-text-stroke-width: 0px\; white-space: normal\; word-spacing: 0px\;"><span style="line-height: 18.66px\;">Registered apprenticeships are offered through the U.S. Department of Labor and are a proven training method for employers to build a talent pipeline of highly skilled\, educated employees. Northwest Michigan Works! provides technical assistance and administrative support for registered apprenticeships\, including development and implementation guidance.</span></p>\n
LOCATION:Northwest Michigan Works! American Job Center\, MSU Extension Conference Room\, 401 N. Lake Street
UID:e.2409.18502
SEQUENCE:3
DTSTAMP:20260425T153558Z
URL:https://business.elkrapidschamber.org/events/details/apprenticeship-information-session-18502
END:VEVENT

END:VCALENDAR
