BEGIN:VCALENDAR
VERSION:2.0
PRODID:-//ChamberMaster//Event Calendar 2.0//EN
METHOD:PUBLISH
X-PUBLISHED-TTL:P3D
REFRESH-INTERVAL:P3D
CALSCALE:GREGORIAN
BEGIN:VEVENT
DTSTART:20230627T220000Z
DTEND:20230628T000000Z
X-MICROSOFT-CDO-ALLDAYEVENT:FALSE
SUMMARY:Antrim Photography Workshop
DESCRIPTION:Unleash the Macro Artist. This is a Zoom workshop presented by Jamie Konarski Davidson of New Life Photos. Jamie will share her approach to macro photography and discuss various creative tools to use beyond the macro lens. For details and to RSVP\, contact Lisa 231-313-8820 or LL.pics44@gmail.com  Membership is $50.00 ($52.00 if paying with PayPal). Sponsored by Alden District Library\, 8751 Helena Rd\, Alden\, 231-331-4318.
X-ALT-DESC;FMTTYPE=text/html:<span style="color: rgb(44\, 54\, 58)\; font-family: Verdana\, Geneva\, sans-serif\; font-size: 13.3333px\; background-color: rgb(255\, 255\, 255)\;">Unleash the Macro Artist. This is a Zoom workshop presented by Jamie Konarski Davidson of New Life Photos. Jamie will share her approach to macro photography and discuss various creative tools to use beyond the macro lens. For details and to RSVP\, contact Lisa 231-313-8820 or&nbsp\;</span><a href="mailto:LL.pics44@gmail.com" rel="noreferrer" style="box-sizing: border-box\; color: rgb(0\, 172\, 255)\; text-decoration-line: none\; background-color: rgb(255\, 255\, 255)\; font-family: Verdana\, Geneva\, sans-serif\; font-size: 13.3333px\;">LL.pics44@gmail.com</a><span style="color: rgb(44\, 54\, 58)\; font-family: Verdana\, Geneva\, sans-serif\; font-size: 13.3333px\; background-color: rgb(255\, 255\, 255)\;">&nbsp\; Membership is $50.00 ($52.00 if paying with PayPal). Sponsored by Alden District Library\, 8751 Helena Rd\, Alden\, 231-331-4318.</span>
LOCATION:Zoom Workshop
UID:e.2409.37867
SEQUENCE:3
DTSTAMP:20260420T010104Z
URL:https://business.elkrapidschamber.org/events/details/antrim-photography-workshop-37867
END:VEVENT

END:VCALENDAR
