BEGIN:VCALENDAR
VERSION:2.0
PRODID:-//ChamberMaster//Event Calendar 2.0//EN
METHOD:PUBLISH
X-PUBLISHED-TTL:P3D
REFRESH-INTERVAL:P3D
CALSCALE:GREGORIAN
BEGIN:VEVENT
DTSTART:20190812T213000Z
DTEND:20190812T233000Z
X-MICROSOFT-CDO-ALLDAYEVENT:FALSE
SUMMARY:Antrim Photography Workshop
DESCRIPTION:Antrim Photography Workshop Speaker: Steven Engle discusses Wild Flowers.  Practice session after class\n\n \n\n {$10 Donation\, non-members OR $40\, 1yr membership}\n\n \n\nSponsored by: Alden District Library & Friends 8751 Helena Rd.\, Alden  (231) 331-4318
X-ALT-DESC;FMTTYPE=text/html:Antrim Photography Workshop Speaker: Steven Engle discusses Wild Flowers.&nbsp\; Practice session after class<br />\n&nbsp\;<br />\n&nbsp\;{$10 Donation\, non-members OR $40\, 1yr membership}<br />\n&nbsp\;<br />\nSponsored by: Alden District Library &amp\; Friends 8751 Helena Rd.\, Alden&nbsp\; (231) 331-4318
LOCATION:Alden District Library
UID:e.2409.20582
SEQUENCE:3
DTSTAMP:20260424T045132Z
URL:https://business.elkrapidschamber.org/events/details/antrim-photography-workshop-20582
END:VEVENT

END:VCALENDAR
