BEGIN:VCALENDAR
VERSION:2.0
PRODID:-//ChamberMaster//Event Calendar 2.0//EN
METHOD:PUBLISH
X-PUBLISHED-TTL:P3D
REFRESH-INTERVAL:P3D
CALSCALE:GREGORIAN
BEGIN:VEVENT
DTSTART:20201026T230000Z
DTEND:20201027T010000Z
X-MICROSOFT-CDO-ALLDAYEVENT:FALSE
SUMMARY:Antrim County Republicans Monthly Meeting
DESCRIPTION:Everyone is welcome
X-ALT-DESC;FMTTYPE=text/html:Everyone is welcome
LOCATION:Antrim County Building 2nd Floor Bellaire
UID:e.2409.23030
SEQUENCE:3
DTSTAMP:20260422T025852Z
URL:https://business.elkrapidschamber.org/events/details/antrim-county-republicans-monthly-meeting-10-26-2020-23030
END:VEVENT

END:VCALENDAR
