BEGIN:VCALENDAR
VERSION:2.0
PRODID:-//ChamberMaster//Event Calendar 2.0//EN
METHOD:PUBLISH
X-PUBLISHED-TTL:P3D
REFRESH-INTERVAL:P3D
CALSCALE:GREGORIAN
BEGIN:VEVENT
DTSTART:20200928T230000Z
DTEND:20200929T010000Z
X-MICROSOFT-CDO-ALLDAYEVENT:FALSE
SUMMARY:Antrim County Republicans Monthly Meeting
DESCRIPTION:Everyone is welcome
X-ALT-DESC;FMTTYPE=text/html:Everyone is welcome
LOCATION:Antrim County Building 2nd Floor Bellaire
UID:e.2409.23029
SEQUENCE:3
DTSTAMP:20260422T044420Z
URL:https://business.elkrapidschamber.org/events/details/antrim-county-republicans-monthly-meeting-09-28-2020-23029
END:VEVENT

END:VCALENDAR
