BEGIN:VCALENDAR
VERSION:2.0
PRODID:-//ChamberMaster//Event Calendar 2.0//EN
METHOD:PUBLISH
X-PUBLISHED-TTL:P3D
REFRESH-INTERVAL:P3D
CALSCALE:GREGORIAN
BEGIN:VEVENT
DTSTART:20191208T210000Z
DTEND:20191208T230000Z
X-MICROSOFT-CDO-ALLDAYEVENT:FALSE
SUMMARY:Antrim County Community Choir Annual Concert
DESCRIPTION:The Antrim County Community Choir under the direction of Dorothy Clore will present their annual concert of seasonal music\, "Christmas Light" \n\nThe free-will offering benefits the Susie Hutchings Memorial Scholarship Fund\, established to assist county students interested in furthering their musical education.  For more information about the programs or how to become a donor to the scholarship program\, please contact Dorothy at 231-331-6587.
X-ALT-DESC;FMTTYPE=text/html:The Antrim County Community Choir under the direction of Dorothy Clore will present their annual concert of seasonal music\, &quot\;Christmas Light&quot\;&nbsp\;<br />\nThe free-will offering benefits the Susie Hutchings Memorial Scholarship Fund\, established to assist county students interested in furthering their musical education.&nbsp\; For more information about the programs or how to become a donor to the scholarship program\, please contact Dorothy at 231-331-6587.<br />\n<br />\n&nbsp\;
LOCATION:Bellaire High School Auditorium
UID:e.2409.22397
SEQUENCE:3
DTSTAMP:20260419T142609Z
URL:https://business.elkrapidschamber.org/events/details/antrim-county-community-choir-annual-concert-22397
END:VEVENT

END:VCALENDAR
