BEGIN:VCALENDAR
VERSION:2.0
PRODID:-//ChamberMaster//Event Calendar 2.0//EN
METHOD:PUBLISH
X-PUBLISHED-TTL:P3D
REFRESH-INTERVAL:P3D
CALSCALE:GREGORIAN
BEGIN:VEVENT
DTSTART:20190509T220000Z
DTEND:20190510T010000Z
X-MICROSOFT-CDO-ALLDAYEVENT:FALSE
SUMMARY:Annual Community Awards Dinner
DESCRIPTION:Local community stars will be honored Thursday\, May 9th at the annual Community All Stars Awards Dinner\, presented by the Elk Rapids Area Chamber of Commerce and sponsored by Munson Healthcare. The night will honor and celebrate area volunteers and employees who have given their time\, energy and resources and provided exemplary service to the community over the past year. Tickets for the event\, which will be held at the Williamsburg Event Center from 6:00 to 9:00 p.m. are $45 per person or $350 for a table of eight and may be purchased at the Elk Rapids Area Chamber of Commerce. The ticket price includes a drink ticket and a 4-course dinner followed by the awards presentation. To reserve your table now\, and to purchase individual tickets\, call the Chamber at 231.264.8202\, or email maryl@elkrapidschamber.org.
X-ALT-DESC;FMTTYPE=text/html:<div style="text-align: left\; color: rgb(123\, 110\, 101)\; text-transform: none\; text-indent: 0px\; letter-spacing: normal\; font-family: Arial\, Verdana\, Helvetica\, sans-serif\; font-size: 12px\; font-style: normal\; font-weight: 400\; word-spacing: 0px\; white-space: normal\; orphans: 2\; widows: 2\; background-color: rgb(208\, 236\, 242)\; -webkit-text-stroke-width: 0px\; font-variant-ligatures: normal\; font-variant-caps: normal\; text-decoration-style: initial\; text-decoration-color: initial\;"><span style="background-color: transparent\; color: rgb(0\, 0\, 0)\; font-family: Palatino Linotype\,Book Antiqua\,Palatino\,serif\; font-size: 14px\; font-style: normal\; font-variant: normal\; font-weight: 700\; letter-spacing: normal\; orphans: 2\; text-align: left\; text-decoration: none\; text-indent: 0px\; text-transform: none\; -webkit-text-stroke-width: 0px\; white-space: normal\; word-spacing: 0px\;">Local community stars will be honored Thursday\, May 9th at the annual Community All Stars Awards Dinner\, presented by the Elk Rapids Area Chamber of Commerce and sponsored by Munson Healthcare. The night will honor and celebrate area volunteers and employees who have given their time\, energy and resources and provided exemplary service to the community over the past year. Tickets for the event\, which will be held at the Williamsburg Event Center from 6:00 to 9:00 p.m. are $45 per person or $350 for a table of eight and may be purchased at the Elk Rapids Area Chamber of Commerce. The ticket price includes a drink ticket and a 4-course dinner followed by the awards presentation. To reserve your table now\, and to purchase individual tickets\, call the Chamber at 231.264.8202\, or email </span><a rel="nofollow" style="background-color: transparent\; color: rgb(54\, 97\, 189)\; font-family: Palatino Linotype\,Book Antiqua\,Palatino\,serif\; font-size: 14px\; font-style: normal\; font-variant: normal\; font-weight: 700\; letter-spacing: normal\; orphans: 2\; text-align: left\; text-decoration: underline\; text-indent: 0px\; text-transform: none\; -webkit-text-stroke-width: 0px\; white-space: normal\; word-spacing: 0px\;" target="_blank" ymailto="mailto:maryl@elkrapidschamber.org">maryl@elkrapidschamber.org</a><span style="background-color: transparent\; color: rgb(0\, 0\, 0)\; font-family: Palatino Linotype\,Book Antiqua\,Palatino\,serif\; font-size: 14px\; font-style: normal\; font-variant: normal\; font-weight: 700\; letter-spacing: normal\; orphans: 2\; text-align: left\; text-decoration: none\; text-indent: 0px\; text-transform: none\; -webkit-text-stroke-width: 0px\; white-space: normal\; word-spacing: 0px\;">. </span></div>\n
LOCATION:Williamsburg Event Center 4230 M-72 East Williamsburg\, MI 49690
UID:e.2409.18333
SEQUENCE:3
DTSTAMP:20260425T153835Z
URL:https://business.elkrapidschamber.org/events/details/annual-community-awards-dinner-18333
END:VEVENT

END:VCALENDAR
