BEGIN:VCALENDAR
VERSION:2.0
PRODID:-//ChamberMaster//Event Calendar 2.0//EN
METHOD:PUBLISH
X-PUBLISHED-TTL:P3D
REFRESH-INTERVAL:P3D
CALSCALE:GREGORIAN
BEGIN:VEVENT
DTSTART:20220602T210000Z
DTEND:20220602T230000Z
X-MICROSOFT-CDO-ALLDAYEVENT:FALSE
SUMMARY:Amy Kate Designs Ribbon Cutting & Grand Opening
DESCRIPTION:
X-ALT-DESC;FMTTYPE=text/html:
LOCATION:
UID:e.2409.30200
SEQUENCE:3
DTSTAMP:20260420T202836Z
URL:https://business.elkrapidschamber.org/events/details/amy-kate-designs-ribbon-cutting-grand-opening-30200
END:VEVENT

END:VCALENDAR
