BEGIN:VCALENDAR
VERSION:2.0
PRODID:-//ChamberMaster//Event Calendar 2.0//EN
METHOD:PUBLISH
X-PUBLISHED-TTL:P3D
REFRESH-INTERVAL:P3D
CALSCALE:GREGORIAN
BEGIN:VEVENT
DTSTART:20220530T110000Z
DTEND:20220530T160000Z
X-MICROSOFT-CDO-ALLDAYEVENT:FALSE
SUMMARY:Amvets Post #114 Memorial Day Schedule
DESCRIPTION:Amvets 2022 Memorial Day Schedule:\n\n\n\n0700 - Breakfast at Post (provided by Sons)\n\n0800 - Milton Township Cemetery Service\n\n0830 - Sacred Heart Cemetery Service\n\n0900 - Kewadin Native American Cemetery Service\n\n1000 - Maple Grove Cemetery Service\n\n1045   Parade steps off from Post\n\n1100   Memorial Day Service at Veterans Park\n\nAfter Service is over:\n\nTown Club Bar provides drinks for veterans\n\nLunch at Post (provide by Auxiliary)
X-ALT-DESC;FMTTYPE=text/html:<div class="kvgmc6g5 cxmmr5t8 oygrvhab hcukyx3x c1et5uql ii04i59q" style="overflow-wrap: break-word\; margin: 0px\; white-space: pre-wrap\; font-family: &quot\;Segoe UI Historic&quot\;\, &quot\;Segoe UI&quot\;\, Helvetica\, Arial\, sans-serif\; color: rgb(5\, 5\, 5)\; font-size: 15px\; background-color: rgb(255\, 255\, 255)\;">\n<div dir="auto" style="font-family: inherit\;">Amvets 2022 Memorial Day Schedule:</div>\n</div>\n\n<div class="cxmmr5t8 oygrvhab hcukyx3x c1et5uql o9v6fnle ii04i59q" style="overflow-wrap: break-word\; margin: 0.5em 0px 0px\; white-space: pre-wrap\; font-family: &quot\;Segoe UI Historic&quot\;\, &quot\;Segoe UI&quot\;\, Helvetica\, Arial\, sans-serif\; color: rgb(5\, 5\, 5)\; font-size: 15px\; background-color: rgb(255\, 255\, 255)\;">\n<div dir="auto" style="font-family: inherit\;">0700 - Breakfast at Post (provided by Sons)</div>\n\n<div dir="auto" style="font-family: inherit\;">0800 - Milton Township Cemetery Service</div>\n\n<div dir="auto" style="font-family: inherit\;">0830 - Sacred Heart Cemetery Service</div>\n\n<div dir="auto" style="font-family: inherit\;">0900 - Kewadin Native American Cemetery Service</div>\n\n<div dir="auto" style="font-family: inherit\;">1000 - Maple Grove Cemetery Service</div>\n\n<div dir="auto" style="font-family: inherit\;">1045 &ndash\; Parade steps off from Post</div>\n\n<div dir="auto" style="font-family: inherit\;">1100 &ndash\; Memorial Day Service at Veterans Park</div>\n\n<div dir="auto" style="font-family: inherit\;">After Service is over:</div>\n\n<div dir="auto" style="font-family: inherit\;">Town Club Bar provides drinks for veterans</div>\n\n<div dir="auto" style="font-family: inherit\;">Lunch at Post (provide by Auxiliary)</div>\n</div>\n
LOCATION:
UID:e.2409.30407
SEQUENCE:3
DTSTAMP:20260420T214825Z
URL:https://business.elkrapidschamber.org/events/details/amvets-post-114-memorial-day-schedule-30407
END:VEVENT

END:VCALENDAR
