BEGIN:VCALENDAR
VERSION:2.0
PRODID:-//ChamberMaster//Event Calendar 2.0//EN
METHOD:PUBLISH
X-PUBLISHED-TTL:P3D
REFRESH-INTERVAL:P3D
CALSCALE:GREGORIAN
BEGIN:VEVENT
DTSTART:20231216T150000Z
DTEND:20231216T200000Z
X-MICROSOFT-CDO-ALLDAYEVENT:FALSE
SUMMARY:Amvets Holiday Craft Show
DESCRIPTION:Holiday Crafts\n\nBake Sales\n\nLight Lunch\, $5.00 per person
X-ALT-DESC;FMTTYPE=text/html:Holiday Crafts<br />\nBake Sales<br />\nLight Lunch\, $5.00 per person
LOCATION:Amvets Post #114 410 Bridge Street Elk Rapids
UID:e.2409.40281
SEQUENCE:3
DTSTAMP:20260419T175602Z
URL:https://business.elkrapidschamber.org/events/details/amvets-holiday-craft-show-40281
END:VEVENT

END:VCALENDAR
