BEGIN:VCALENDAR
VERSION:2.0
PRODID:-//ChamberMaster//Event Calendar 2.0//EN
METHOD:PUBLISH
X-PUBLISHED-TTL:P3D
REFRESH-INTERVAL:P3D
CALSCALE:GREGORIAN
BEGIN:VEVENT
DTSTART:20231117T223000Z
DTEND:20231118T000000Z
X-MICROSOFT-CDO-ALLDAYEVENT:FALSE
SUMMARY:Amvets Fish Fry
DESCRIPTION:Amvets Fish Fry
X-ALT-DESC;FMTTYPE=text/html:Amvets Fish Fry
LOCATION:Amvets Post 114 410 Bridge Street Elk Rapids\, MI 49629
UID:e.2409.39849
SEQUENCE:3
DTSTAMP:20260419T175532Z
URL:https://business.elkrapidschamber.org/events/details/amvets-fish-fry-39849
END:VEVENT

END:VCALENDAR
