BEGIN:VCALENDAR
VERSION:2.0
PRODID:-//ChamberMaster//Event Calendar 2.0//EN
METHOD:PUBLISH
X-PUBLISHED-TTL:P3D
REFRESH-INTERVAL:P3D
CALSCALE:GREGORIAN
BEGIN:VEVENT
DTSTART:20231202T170000Z
DTEND:20231202T190000Z
X-MICROSOFT-CDO-ALLDAYEVENT:FALSE
SUMMARY:Amvets Community Kids Christmas
DESCRIPTION:Free Admission\n\nSee Santa & Mrs. Claus\n\nCookie Decorating
X-ALT-DESC;FMTTYPE=text/html:Free Admission<br />\nSee Santa &amp\; Mrs. Claus<br />\nCookie Decorating
LOCATION:Amvets Post #114 410 Bridge St. Elk Rapids
UID:e.2409.40280
SEQUENCE:3
DTSTAMP:20260419T175730Z
URL:https://business.elkrapidschamber.org/events/details/amvets-community-kids-christmas-40280
END:VEVENT

END:VCALENDAR
