BEGIN:VCALENDAR
VERSION:2.0
PRODID:-//ChamberMaster//Event Calendar 2.0//EN
METHOD:PUBLISH
X-PUBLISHED-TTL:P3D
REFRESH-INTERVAL:P3D
CALSCALE:GREGORIAN
BEGIN:VEVENT
DTSTART:20191207T223000Z
DTEND:20191208T040000Z
X-MICROSOFT-CDO-ALLDAYEVENT:FALSE
SUMMARY:Amvets 75th Birthday Party
DESCRIPTION:Welcome All!  Come join us in celebrating AMVETS 75TH BIRTHDAY WITH A COMMANDERS PARTY\n\nLight appetizers and music with "The Big Daddio's @ 7:00 p.m.\n\n$5 donation at the door\n\nOne day open license to serve the public.
X-ALT-DESC;FMTTYPE=text/html:Welcome All!&nbsp\; Come join us in celebrating AMVETS 75TH BIRTHDAY WITH A COMMANDERS PARTY<br />\nLight appetizers and music with &quot\;The Big Daddio&#39\;s @ 7:00 p.m.<br />\n$5 donation at the door<br />\nOne day open license to serve the public.
LOCATION:Amvets 410 Bridge St Elk Rapids
UID:e.2409.22324
SEQUENCE:3
DTSTAMP:20260419T153317Z
URL:https://business.elkrapidschamber.org/events/details/amvets-75th-birthday-party-22324
END:VEVENT

END:VCALENDAR
