BEGIN:VCALENDAR
VERSION:2.0
PRODID:-//ChamberMaster//Event Calendar 2.0//EN
METHOD:PUBLISH
X-PUBLISHED-TTL:P3D
REFRESH-INTERVAL:P3D
CALSCALE:GREGORIAN
BEGIN:VEVENT
DTSTART:20241026T210000Z
DTEND:20241026T230000Z
X-MICROSOFT-CDO-ALLDAYEVENT:FALSE
SUMMARY:Amvet's Trunk and Treat
DESCRIPTION:
X-ALT-DESC;FMTTYPE=text/html:
LOCATION:
UID:e.2409.45530
SEQUENCE:3
DTSTAMP:20260424T201425Z
URL:https://business.elkrapidschamber.org/events/details/amvet-s-trunk-and-treat-45530
END:VEVENT

END:VCALENDAR
