BEGIN:VCALENDAR
VERSION:2.0
PRODID:-//ChamberMaster//Event Calendar 2.0//EN
METHOD:PUBLISH
X-PUBLISHED-TTL:P3D
REFRESH-INTERVAL:P3D
CALSCALE:GREGORIAN
BEGIN:VEVENT
DTSTART:20230304T231500Z
DTEND:20230305T013000Z
X-MICROSOFT-CDO-ALLDAYEVENT:FALSE
SUMMARY:Amvet's Post Euchre Tournament
DESCRIPTION:Bring an appetizer to pass.\n\nAll are welcome\, you don't have to be a member to play.\n\nAll proceeds go to the Amvets Post and to support our Veterans.\n\nPrizes awarded for 1st\, 2nd\, and 3rd place.
X-ALT-DESC;FMTTYPE=text/html:Bring an appetizer to pass.<br />\nAll are welcome\, you don&#39\;t have to be a member to play.<br />\nAll proceeds go to the Amvets Post and to support our Veterans.<br />\nPrizes awarded for 1st\, 2nd\, and 3rd place.
LOCATION:Amvet's 410 Bridge Street Elk Rapids
UID:e.2409.36041
SEQUENCE:3
DTSTAMP:20260420T065747Z
URL:https://business.elkrapidschamber.org/events/details/amvet-s-post-euchre-tournament-36041
END:VEVENT

END:VCALENDAR
