BEGIN:VCALENDAR
VERSION:2.0
PRODID:-//ChamberMaster//Event Calendar 2.0//EN
METHOD:PUBLISH
X-PUBLISHED-TTL:P3D
REFRESH-INTERVAL:P3D
CALSCALE:GREGORIAN
BEGIN:VEVENT
DTSTART:20230529T120000Z
DTEND:20230529T160000Z
X-MICROSOFT-CDO-ALLDAYEVENT:FALSE
SUMMARY:Amvet's Memorial Day Service
DESCRIPTION:AMVETS\n\nMemorial Day\n\nMay 29\, 2023\n\n \n\n \n\n \n\n \n\n08:00        Milton Township Cemetery Memorial Service\n\n \n\n08:30        Sacred Heart Cemetery Memorial Service\n\n \n\n09:00        Kewadin Native American Cemetery Memorial Service\n\n \n\n10:00        Maple Grove Cemetery Memorial Service\n\n \n\n10:45        Parade Step Off at Post Home\n\n \n\n11:00        Veterans Memorial Park Service
X-ALT-DESC;FMTTYPE=text/html:<strong><span style="font-family:arial\,sans-serif\;">AMVETS</span></strong><br />\n<strong><span style="font-family:arial\,sans-serif\;">Memorial Day</span></strong><br />\n<strong><span style="font-family:arial\,sans-serif\;">May 29\, 2023</span></strong><br />\n&nbsp\;<br />\n&nbsp\;<br />\n&nbsp\;<br />\n&nbsp\;<br />\n<span style="font-family:arial\,sans-serif\;">08:00&nbsp\;&nbsp\;&nbsp\;&nbsp\;&nbsp\;&nbsp\;&nbsp\; Milton Township Cemetery Memorial Service</span><br />\n&nbsp\;<br />\n<span style="font-family:arial\,sans-serif\;">08:30&nbsp\;&nbsp\;&nbsp\;&nbsp\;&nbsp\;&nbsp\;&nbsp\; Sacred Heart Cemetery Memorial Service</span><br />\n&nbsp\;<br />\n<span style="font-family:arial\,sans-serif\;">09:00&nbsp\;&nbsp\;&nbsp\;&nbsp\;&nbsp\;&nbsp\;&nbsp\; Kewadin Native American Cemetery Memorial Service</span><br />\n&nbsp\;<br />\n<span style="font-family:arial\,sans-serif\;">10:00&nbsp\;&nbsp\;&nbsp\;&nbsp\;&nbsp\;&nbsp\;&nbsp\; Maple Grove Cemetery Memorial Service</span><br />\n&nbsp\;<br />\n<span style="font-family:arial\,sans-serif\;">10:45&nbsp\;&nbsp\;&nbsp\;&nbsp\;&nbsp\;&nbsp\;&nbsp\; Parade Step Off at Post Home</span><br />\n&nbsp\;<br />\n<span style="font-family:arial\,sans-serif\;">11:00&nbsp\;&nbsp\;&nbsp\;&nbsp\;&nbsp\;&nbsp\;&nbsp\; Veterans Memorial Park Service</span><br />\n&nbsp\;
LOCATION:
UID:e.2409.37815
SEQUENCE:3
DTSTAMP:20260420T035131Z
URL:https://business.elkrapidschamber.org/events/details/amvet-s-memorial-day-service-37815
END:VEVENT

END:VCALENDAR
