BEGIN:VCALENDAR
VERSION:2.0
PRODID:-//ChamberMaster//Event Calendar 2.0//EN
METHOD:PUBLISH
X-PUBLISHED-TTL:P3D
REFRESH-INTERVAL:P3D
CALSCALE:GREGORIAN
BEGIN:VEVENT
DTSTART:20201104T000000Z
DTEND:20201104T020000Z
X-MICROSOFT-CDO-ALLDAYEVENT:FALSE
SUMMARY:American Legion Monthly Meeting
DESCRIPTION:Please join the American Legion for their monthly meetings
X-ALT-DESC;FMTTYPE=text/html:Please join the American Legion for their monthly meetings
LOCATION:Calvary Lutheran Church Elk Lake Rd. at US 31 Elk Rapids 231-264-8841
UID:e.2409.22150
SEQUENCE:3
DTSTAMP:20260422T013350Z
URL:https://business.elkrapidschamber.org/events/details/american-legion-monthly-meeting-11-03-2020-22150
END:VEVENT

END:VCALENDAR
