BEGIN:VCALENDAR
VERSION:2.0
PRODID:-//ChamberMaster//Event Calendar 2.0//EN
METHOD:PUBLISH
X-PUBLISHED-TTL:P3D
REFRESH-INTERVAL:P3D
CALSCALE:GREGORIAN
BEGIN:VEVENT
DTSTART:20220910T140000Z
DTEND:20220910T190000Z
X-MICROSOFT-CDO-ALLDAYEVENT:FALSE
SUMMARY:Alden Hot & Classic Car Show
DESCRIPTION:
X-ALT-DESC;FMTTYPE=text/html:
LOCATION:
UID:e.2409.30705
SEQUENCE:3
DTSTAMP:20260420T154402Z
URL:https://business.elkrapidschamber.org/events/details/alden-hot-classic-car-show-30705
END:VEVENT

END:VCALENDAR
