BEGIN:VCALENDAR
VERSION:2.0
PRODID:-//ChamberMaster//Event Calendar 2.0//EN
METHOD:PUBLISH
X-PUBLISHED-TTL:P3D
REFRESH-INTERVAL:P3D
CALSCALE:GREGORIAN
BEGIN:VEVENT
DTSTART:20230615T133000Z
DTEND:20230615T150000Z
X-MICROSOFT-CDO-ALLDAYEVENT:FALSE
SUMMARY:Alden Friends of the Library Meeting
DESCRIPTION:Friends of the Library Meeting: 9:30am social time\, 10am meeting being held at Helena Township Community Center\, 8751 Helena Rd\, Alden. 12:15pm lunch will be served at The Pelican's Nest at Shanty Creek Resort's Chief Golf Course. Reservations and menu choice must be in by Tuesday\, June 13TH. Call the library to get signed up\, 231-331-4318.
X-ALT-DESC;FMTTYPE=text/html:<span style="box-sizing: border-box\; font-weight: bolder\; color: rgb(44\, 54\, 58)\; font-family: Verdana\, Geneva\, sans-serif\; font-size: 13.3333px\; background-color: rgb(255\, 255\, 255)\;">Friends of the Library Meeting:</span><span style="box-sizing: border-box\; position: relative\; font-size: 10px\; line-height: 0\; vertical-align: baseline\; top: -0.5em\; color: rgb(44\, 54\, 58)\; font-family: Verdana\, Geneva\, sans-serif\; background-color: rgb(255\, 255\, 255)\;">&nbsp\;</span><span style="color: rgb(44\, 54\, 58)\; font-family: Verdana\, Geneva\, sans-serif\; font-size: 13.3333px\; background-color: rgb(255\, 255\, 255)\;">9:30am social time\, 10am meeting being held at Helena Township Community Center\, 8751 Helena Rd\, Alden. 12:15pm lunch will be served at The Pelican&rsquo\;s Nest at Shanty Creek Resort&rsquo\;s Chief Golf Course. Reservations and menu choice must be in by Tuesday\, June 13</span><span style="box-sizing: border-box\; position: relative\; font-size: 10px\; line-height: 0\; vertical-align: baseline\; top: -0.5em\; color: rgb(44\, 54\, 58)\; font-family: Verdana\, Geneva\, sans-serif\; background-color: rgb(255\, 255\, 255)\;">TH</span><span style="color: rgb(44\, 54\, 58)\; font-family: Verdana\, Geneva\, sans-serif\; font-size: 13.3333px\; background-color: rgb(255\, 255\, 255)\;">. Call the library to get signed up\, 231-331-4318.</span>
LOCATION:
UID:e.2409.37865
SEQUENCE:3
DTSTAMP:20260420T011659Z
URL:https://business.elkrapidschamber.org/events/details/alden-friends-of-the-library-meeting-37865
END:VEVENT

END:VCALENDAR
