BEGIN:VCALENDAR
VERSION:2.0
PRODID:-//ChamberMaster//Event Calendar 2.0//EN
METHOD:PUBLISH
X-PUBLISHED-TTL:P3D
REFRESH-INTERVAL:P3D
CALSCALE:GREGORIAN
BEGIN:VEVENT
DTSTART:20230316T133000Z
DTEND:20230316T150000Z
X-MICROSOFT-CDO-ALLDAYEVENT:FALSE
SUMMARY:Alden Friends of the Library Meeting
DESCRIPTION:THURSDAY\, MARCH 16TH\, 9:30am social time\, 10am meeting. Join the friends for a cup of coffee and snacks at their monthly meeting. Held at Helena Township Community Center\, 8751 Helena Rd\, Alden\, 231-331-4318.
X-ALT-DESC;FMTTYPE=text/html:<span style="color: rgb(44\, 54\, 58)\; font-family: Verdana\, Geneva\, sans-serif\; font-size: 13.3333px\; background-color: rgb(255\, 255\, 255)\;">THURSDAY\, MARCH 16</span><span style="box-sizing: border-box\; position: relative\; font-size: 10px\; line-height: 0\; vertical-align: baseline\; top: -0.5em\; color: rgb(44\, 54\, 58)\; font-family: Verdana\, Geneva\, sans-serif\; background-color: rgb(255\, 255\, 255)\;">TH</span><span style="color: rgb(44\, 54\, 58)\; font-family: Verdana\, Geneva\, sans-serif\; font-size: 13.3333px\; background-color: rgb(255\, 255\, 255)\;">\,</span><span style="box-sizing: border-box\; position: relative\; font-size: 10px\; line-height: 0\; vertical-align: baseline\; top: -0.5em\; color: rgb(44\, 54\, 58)\; font-family: Verdana\, Geneva\, sans-serif\; background-color: rgb(255\, 255\, 255)\;">&nbsp\;</span><span style="color: rgb(44\, 54\, 58)\; font-family: Verdana\, Geneva\, sans-serif\; font-size: 13.3333px\; background-color: rgb(255\, 255\, 255)\;">9:30am social time\, 10am meeting. Join the friends for a cup of coffee and snacks at their monthly meeting. Held at Helena Township Community Center\, 8751 Helena Rd\, Alden\, 231-331-4318.</span>
LOCATION:
UID:e.2409.36107
SEQUENCE:3
DTSTAMP:20260420T070508Z
URL:https://business.elkrapidschamber.org/events/details/alden-friends-of-the-library-meeting-36107
END:VEVENT

END:VCALENDAR
