BEGIN:VCALENDAR
VERSION:2.0
PRODID:-//ChamberMaster//Event Calendar 2.0//EN
METHOD:PUBLISH
X-PUBLISHED-TTL:P3D
REFRESH-INTERVAL:P3D
CALSCALE:GREGORIAN
BEGIN:VEVENT
DTSTART:20190801T230000Z
DTEND:20190802T010000Z
X-MICROSOFT-CDO-ALLDAYEVENT:FALSE
SUMMARY:Alden Evening Stroll
DESCRIPTION:The Thursday Evening Stroll features music and street entertainers. Shops and restaurants stay open late. Stroll every Thursday through the summer in Alden. Entertainment: Kenny Thompson
X-ALT-DESC;FMTTYPE=text/html:<p><span style="font-family: arial\;"><span style="font-size: 14px\;">The Thursday Evening Stroll features music and street entertainers. Shops and restaurants stay open late. Stroll every Thursday through the summer in Alden. Entertainment: Kenny Thompson</span></span><br />\n<br />\n<br />\n&nbsp\;</p>\n
LOCATION:Downtown Alden
UID:e.2409.19152
SEQUENCE:3
DTSTAMP:20260423T091800Z
URL:https://business.elkrapidschamber.org/events/details/alden-evening-stroll-08-01-2019-19152
END:VEVENT

END:VCALENDAR
