BEGIN:VCALENDAR
VERSION:2.0
PRODID:-//ChamberMaster//Event Calendar 2.0//EN
METHOD:PUBLISH
X-PUBLISHED-TTL:P3D
REFRESH-INTERVAL:P3D
CALSCALE:GREGORIAN
BEGIN:VEVENT
DTSTART:20240107T190000Z
DTEND:20240107T210000Z
X-MICROSOFT-CDO-ALLDAYEVENT:FALSE
SUMMARY:Afternoon Euchre at Johnny's Torch Riveria
DESCRIPTION:Sunday Afternoon Euchre at Johnny's Torch Riviera\n\n\n\nWhen: Sunday January 7\, 2024\n\nTime: 2 pm\n\nWhat to expect:\n\nEntry Fee: $5.00\n\nPrizes paid out based on entry fees.\n\nBring quarters - .50 cents per euchre.\n\n\n\nHappy Hour drink discounts.\n\nIf you are hungry - Sloppy Joes and Tater Tots $12.00
X-ALT-DESC;FMTTYPE=text/html:<div class="x11i5rnm xat24cr x1mh8g0r x1vvkbs xtlvy1s x126k92a" style="margin: 0.5em 0px 0px\; overflow-wrap: break-word\; white-space-collapse: preserve\; font-family: &quot\;Segoe UI Historic&quot\;\, &quot\;Segoe UI&quot\;\, Helvetica\, Arial\, sans-serif\; color: rgb(5\, 5\, 5)\; font-size: 15px\; background-color: rgb(255\, 255\, 255)\;">\n<div dir="auto" style="font-family: inherit\;">Sunday Afternoon Euchre at Johnny&rsquo\;s Torch Riviera</div>\n</div>\n\n<div class="x11i5rnm xat24cr x1mh8g0r x1vvkbs xtlvy1s x126k92a" style="margin: 0.5em 0px 0px\; overflow-wrap: break-word\; white-space-collapse: preserve\; font-family: &quot\;Segoe UI Historic&quot\;\, &quot\;Segoe UI&quot\;\, Helvetica\, Arial\, sans-serif\; color: rgb(5\, 5\, 5)\; font-size: 15px\; background-color: rgb(255\, 255\, 255)\;">\n<div dir="auto" style="font-family: inherit\;">When: Sunday January 7\, 2024</div>\n\n<div dir="auto" style="font-family: inherit\;">Time: 2 pm</div>\n\n<div dir="auto" style="font-family: inherit\;">What to expect:</div>\n\n<div dir="auto" style="font-family: inherit\;">Entry Fee: $5.00</div>\n\n<div dir="auto" style="font-family: inherit\;">Prizes paid out based on entry fees.</div>\n\n<div dir="auto" style="font-family: inherit\;">Bring quarters - .50 cents per euchre.</div>\n</div>\n\n<div class="x11i5rnm xat24cr x1mh8g0r x1vvkbs xtlvy1s x126k92a" style="margin: 0.5em 0px 0px\; overflow-wrap: break-word\; white-space-collapse: preserve\; font-family: &quot\;Segoe UI Historic&quot\;\, &quot\;Segoe UI&quot\;\, Helvetica\, Arial\, sans-serif\; color: rgb(5\, 5\, 5)\; font-size: 15px\; background-color: rgb(255\, 255\, 255)\;">\n<div dir="auto" style="font-family: inherit\;">Happy Hour drink discounts.</div>\n\n<div dir="auto" style="font-family: inherit\;">If you are hungry - Sloppy Joes and Tater Tots $12.00</div>\n</div>\n
LOCATION:12899 Cherry Ave. Rapid City
UID:e.2409.40852
SEQUENCE:3
DTSTAMP:20260419T134019Z
URL:https://business.elkrapidschamber.org/events/details/afternoon-euchre-at-johnny-s-torch-riveria-40852
END:VEVENT

END:VCALENDAR
