BEGIN:VCALENDAR
VERSION:2.0
PRODID:-//ChamberMaster//Event Calendar 2.0//EN
METHOD:PUBLISH
X-PUBLISHED-TTL:P3D
REFRESH-INTERVAL:P3D
CALSCALE:GREGORIAN
BEGIN:VEVENT
DTSTART:20191207T143000Z
DTEND:20191207T213000Z
X-MICROSOFT-CDO-ALLDAYEVENT:FALSE
SUMMARY:Adventures in Acrylics with Charles Murphy
DESCRIPTION:Popular northern Michigan artist Charles Murphy will be teaching an Acrylic Workshop at Twisted Fish Gallery. The cost is $150 and registration is required. Please call the gallery to confirm your spot and obtain a recommended supply list.
X-ALT-DESC;FMTTYPE=text/html:<p style="background: white\; margin: 0px\;"><span style="margin: 0px\; color: rgb(34\, 34\, 34)\; font-size: 13pt\;">Popular northern Michigan artist Charles Murphy will be teaching an Acrylic Workshop at Twisted Fish Gallery.&nbsp\;The cost is $150 and registration is required. Please call the gallery to confirm your spot and obtain a recommended supply list.</span></p>\n
LOCATION:Twisted Fish Gallery
UID:e.2409.22387
SEQUENCE:3
DTSTAMP:20260419T153323Z
URL:https://business.elkrapidschamber.org/events/details/adventures-in-acrylics-with-charles-murphy-22387
END:VEVENT

END:VCALENDAR
