BEGIN:VCALENDAR
VERSION:2.0
PRODID:-//ChamberMaster//Event Calendar 2.0//EN
METHOD:PUBLISH
X-PUBLISHED-TTL:P3D
REFRESH-INTERVAL:P3D
CALSCALE:GREGORIAN
BEGIN:VEVENT
DTSTART:20220514T160000Z
DTEND:20220514T200000Z
X-MICROSOFT-CDO-ALLDAYEVENT:FALSE
SUMMARY:ACD Farmer Resource Fair
DESCRIPTION:2022 FARMER RESOURCE FAIR \n\nPresentation Agenda\n\n\n\n1:00 Welcome and Intro\n\n1:05 MiFarmLink\n\n1:30 MSU Extension / Farm Stress and Health\n\n2:00 Crosshatch\, others\n\n2:15 MAEAP intro + small farm testimonials and Q&A\n\n3:00 Wrap up
X-ALT-DESC;FMTTYPE=text/html:<strong style="color:rgb(70\, 70\, 70)\;font-family:Open Sans\, Helvetica\, sans-serif\;font-size:13px\;text-align:center\;"><span style="font-size:large\;"><span style="color:#000000\;">2022 FARMER RESOURCE FAIR&nbsp\;<br />\nPresentation Agenda<br />\n<br />\n1:00</span>&nbsp\;<span style="color:#000000\;">Welcome and Intro</span></span></strong><br style="color:rgb(70\, 70\, 70)\;font-family:Open Sans\, Helvetica\, sans-serif\;font-size:13px\;text-align:center\;" />\n<strong style="color:rgb(70\, 70\, 70)\;font-family:Open Sans\, Helvetica\, sans-serif\;font-size:13px\;text-align:center\;"><span style="font-size:large\;"><span style="color:#000000\;">1:05</span>&nbsp\;<span style="color:#000000\;">MiFarmLink</span></span></strong><br style="color:rgb(70\, 70\, 70)\;font-family:Open Sans\, Helvetica\, sans-serif\;font-size:13px\;text-align:center\;" />\n<strong style="color:rgb(70\, 70\, 70)\;font-family:Open Sans\, Helvetica\, sans-serif\;font-size:13px\;text-align:center\;"><span style="font-size:large\;"><span style="color:#000000\;">1:30</span>&nbsp\;<span style="color:#000000\;">MSU Extension / Farm Stress and Health</span></span></strong><br style="color:rgb(70\, 70\, 70)\;font-family:Open Sans\, Helvetica\, sans-serif\;font-size:13px\;text-align:center\;" />\n<strong style="color:rgb(70\, 70\, 70)\;font-family:Open Sans\, Helvetica\, sans-serif\;font-size:13px\;text-align:center\;"><span style="font-size:large\;"><span style="color:#000000\;">2:00</span>&nbsp\;<span style="color:#000000\;">Crosshatch\, others</span></span></strong><br style="color:rgb(70\, 70\, 70)\;font-family:Open Sans\, Helvetica\, sans-serif\;font-size:13px\;text-align:center\;" />\n<strong style="color:rgb(70\, 70\, 70)\;font-family:Open Sans\, Helvetica\, sans-serif\;font-size:13px\;text-align:center\;"><span style="font-size:large\;"><span style="color:#000000\;">2:15</span>&nbsp\;<span style="color:#000000\;">MAEAP intro + small farm testimonials and Q&amp\;A</span></span></strong><br style="color:rgb(70\, 70\, 70)\;font-family:Open Sans\, Helvetica\, sans-serif\;font-size:13px\;text-align:center\;" />\n<strong style="color:rgb(70\, 70\, 70)\;font-family:Open Sans\, Helvetica\, sans-serif\;font-size:13px\;text-align:center\;"><span style="font-size:large\;"><span style="color:#000000\;">3:00&nbsp\;</span></span><span style="color:#000000\;"><span style="font-size:large\;">Wrap up</span></span></strong>
LOCATION:ASI Community Center & Park Bellaire MI
UID:e.2409.30287
SEQUENCE:3
DTSTAMP:20260420T202306Z
URL:https://business.elkrapidschamber.org/events/details/acd-farmer-resource-fair-30287
END:VEVENT

END:VCALENDAR
