BEGIN:VCALENDAR
VERSION:2.0
PRODID:-//ChamberMaster//Event Calendar 2.0//EN
METHOD:PUBLISH
X-PUBLISHED-TTL:P3D
REFRESH-INTERVAL:P3D
CALSCALE:GREGORIAN
BEGIN:VEVENT
DTSTART:20190202T230000Z
DTEND:20190203T010000Z
X-MICROSOFT-CDO-ALLDAYEVENT:FALSE
SUMMARY:A Plastic Ocean Screening at Ethanology
DESCRIPTION:Join us at the distillery\, February 2nd from 6-8 with FLOW (For Love of Water) nonprofit organization to bring awareness to plastics use\, their effects and to educate the public on how the Nestle corporation is extracting up to 400 gallons of water per minute for bottling in their Osceola County Michigan plant. \n\n\n\nThen join us for a cocktail\, sans plastic straw\, as we screen the award winning documentary A Plastic Ocean film 2017.  The documentary sheds light on the use of plastics\, how they effect our ecosystem\, and their detrimental effects on our planet.
X-ALT-DESC;FMTTYPE=text/html:<span style="display: inline !important\; float: none\; background-color: transparent\; color: rgb(29\, 33\, 41)\; font-family: Helvetica\,Arial\,sans-serif\; font-size: 14px\; font-style: normal\; font-variant: normal\; font-weight: 400\; letter-spacing: normal\; orphans: 2\; text-align: left\; text-decoration: none\; text-indent: 0px\; text-transform: none\; -webkit-text-stroke-width: 0px\; white-space: pre-wrap\; word-spacing: 0px\;">Join us at the distillery\, February 2nd from 6-8 with FLOW (For Love of Water) nonprofit organization to bring awareness to plastics use\, their effects and to educate the public on how the Nestle corporation is extracting up to 400 gallons of water per minute for bottling in their Osceola County Michigan plant. </span><br style="background-color: transparent\; color: rgb(29\, 33\, 41)\; font-family: Helvetica\,Arial\,sans-serif\; font-size: 14px\; font-style: normal\; font-variant: normal\; font-weight: 400\; letter-spacing: normal\; orphans: 2\; text-align: left\; text-decoration: none\; text-indent: 0px\; text-transform: none\; -webkit-text-stroke-width: 0px\; white-space: pre-wrap\; word-spacing: 0px\;" />\n<br style="background-color: transparent\; color: rgb(29\, 33\, 41)\; font-family: Helvetica\,Arial\,sans-serif\; font-size: 14px\; font-style: normal\; font-variant: normal\; font-weight: 400\; letter-spacing: normal\; orphans: 2\; text-align: left\; text-decoration: none\; text-indent: 0px\; text-transform: none\; -webkit-text-stroke-width: 0px\; white-space: pre-wrap\; word-spacing: 0px\;" />\n<span style="display: inline !important\; float: none\; background-color: transparent\; color: rgb(29\, 33\, 41)\; font-family: Helvetica\,Arial\,sans-serif\; font-size: 14px\; font-style: normal\; font-variant: normal\; font-weight: 400\; letter-spacing: normal\; orphans: 2\; text-align: left\; text-decoration: none\; text-indent: 0px\; text-transform: none\; -webkit-text-stroke-width: 0px\; white-space: pre-wrap\; word-spacing: 0px\;">Then join us for a cocktail\, sans plastic straw\, as we screen the award winning documentary </span><a href="https://www.facebook.com/A-Plastic-Ocean-film-2017-271342613238011/" style="background-color: transparent\; color: rgb(54\, 88\, 153)\; cursor: pointer\; font-family: Helvetica\,Arial\,sans-serif\; font-size: 14px\; font-style: normal\; font-variant: normal\; font-weight: 400\; letter-spacing: normal\; orphans: 2\; text-align: left\; text-decoration: none\; text-indent: 0px\; text-transform: none\; -webkit-text-stroke-width: 0px\; white-space: pre-wrap\; word-spacing: 0px\;" target="_blank">A Plastic Ocean film 2017</a><span style="display: inline !important\; float: none\; background-color: transparent\; color: rgb(29\, 33\, 41)\; font-family: Helvetica\,Arial\,sans-serif\; font-size: 14px\; font-style: normal\; font-variant: normal\; font-weight: 400\; letter-spacing: normal\; orphans: 2\; text-align: left\; text-decoration: none\; text-indent: 0px\; text-transform: none\; -webkit-text-stroke-width: 0px\; white-space: pre-wrap\; word-spacing: 0px\;">.&nbsp\; The documentary sheds light on the use of plastics\, how they effect our ecosystem\, and their detrimental effects on our planet.&nbsp\;&nbsp\; </span>
LOCATION:Ethanology
UID:e.2409.17986
SEQUENCE:3
DTSTAMP:20260426T035842Z
URL:https://business.elkrapidschamber.org/events/details/a-plastic-ocean-screening-at-ethanology-17986
END:VEVENT

END:VCALENDAR
