BEGIN:VCALENDAR
VERSION:2.0
PRODID:-//ChamberMaster//Event Calendar 2.0//EN
METHOD:PUBLISH
X-PUBLISHED-TTL:P3D
REFRESH-INTERVAL:P3D
CALSCALE:GREGORIAN
BEGIN:VEVENT
DTSTART:20190913T223000Z
DTEND:20190914T000000Z
X-MICROSOFT-CDO-ALLDAYEVENT:FALSE
SUMMARY:A Performance After Hours:A Tree on the Moon
DESCRIPTION:An original one-man play by Raymond Goodwin A Tree on the Moon is a series of scenes depicting the relationship between a lonely librarian in a small Michigan city and a local boy whose broken family is among the working poor.
X-ALT-DESC;FMTTYPE=text/html:An original one-man play by Raymond Goodwin A Tree on the Moon is a series of scenes depicting the relationship between a lonely librarian in a small Michigan city and a local boy whose broken family is among the working poor.
LOCATION:ERDL Porch
UID:e.2409.20684
SEQUENCE:3
DTSTAMP:20260423T004458Z
URL:https://business.elkrapidschamber.org/events/details/a-performance-after-hours-a-tree-on-the-moon-20684
END:VEVENT

END:VCALENDAR
