BEGIN:VCALENDAR
VERSION:2.0
PRODID:-//ChamberMaster//Event Calendar 2.0//EN
METHOD:PUBLISH
X-PUBLISHED-TTL:P3D
REFRESH-INTERVAL:P3D
CALSCALE:GREGORIAN
BEGIN:VEVENT
DTSTART:20191207T170000Z
DTEND:20191207T213000Z
X-MICROSOFT-CDO-ALLDAYEVENT:FALSE
SUMMARY:A Holiday Open House at Silly Sister's Pottery
DESCRIPTION:Silly Sister's Pottery announces A Holiday Open House. Wine\, Munchies and Lots of Holiday Cheer
X-ALT-DESC;FMTTYPE=text/html:Silly Sister&#39\;s Pottery announces A Holiday Open House. Wine\, Munchies and Lots of Holiday Cheer
LOCATION:11421 Hickin Rd. NW Rapid City\, Mi 49676 Corner of Hickin Rd. and W. Torch Lake Rd.
UID:e.2409.22282
SEQUENCE:3
DTSTAMP:20260419T142722Z
URL:https://business.elkrapidschamber.org/events/details/a-holiday-open-house-at-silly-sister-s-pottery-22282
END:VEVENT

END:VCALENDAR
