BEGIN:VCALENDAR
VERSION:2.0
PRODID:-//ChamberMaster//Event Calendar 2.0//EN
METHOD:PUBLISH
X-PUBLISHED-TTL:P3D
REFRESH-INTERVAL:P3D
CALSCALE:GREGORIAN
BEGIN:VEVENT
DTSTART:20190228T150000Z
DTEND:20190228T163000Z
X-MICROSOFT-CDO-ALLDAYEVENT:FALSE
SUMMARY:5toOne Playgroup Interlochen
DESCRIPTION:What to Expect at Playgroup\n\nGeneral Schedule   An hour of free play   Huddle time   Healthy snacks   An interactive story   Whole group music and/or physical activity   Closing circle\n\n\n\nWhat Parents Can Expect   A safe\, playful environment   A culture of parents helping parents   A free book   Parents leading activities cooperatively   Experiences with a variety of social skills for kids   To share feedback about the playgroups\n\n \n\nWithin the Huddle. . .   5-10 minute Strengthening Families parent activity   Sharing of community resources   Parents generating ideas and sharing   Opportunities to meet community partners\n\n\n\nPlay group locations are subject to inclement weather cancellations. If the school is cancelled\, play group will also be cancelled.
X-ALT-DESC;FMTTYPE=text/html:What to Expect at Playgroup<br />\nGeneral Schedule &bull\; An hour of free play &bull\; Huddle time &bull\; Healthy snacks &bull\; An interactive story &bull\; Whole group music and/or physical activity &bull\; Closing circle<br />\n<br />\nWhat Parents Can Expect &bull\; A safe\, playful environment &bull\; A culture of parents helping parents &bull\; A free book &bull\; Parents leading activities cooperatively &bull\; Experiences with a variety of social skills for kids &bull\; To share feedback about the playgroups<br />\n&nbsp\;<br />\nWithin the Huddle. . . &bull\; 5-10 minute Strengthening Families parent activity &bull\; Sharing of community resources &bull\; Parents generating ideas and sharing &bull\; Opportunities to meet community partners<br />\n<br />\nPlay group locations are subject to inclement weather cancellations. If the school is cancelled\, play group will also be cancelled.
LOCATION:Interlochen Public Library
UID:e.2409.18016
SEQUENCE:3
DTSTAMP:20260426T002236Z
URL:https://business.elkrapidschamber.org/events/details/5toone-playgroup-interlochen-18016
END:VEVENT

END:VCALENDAR
