BEGIN:VCALENDAR
VERSION:2.0
PRODID:-//ChamberMaster//Event Calendar 2.0//EN
METHOD:PUBLISH
X-PUBLISHED-TTL:P3D
REFRESH-INTERVAL:P3D
CALSCALE:GREGORIAN
BEGIN:VEVENT
DTSTART:20220626T160000Z
DTEND:20220626T200000Z
X-MICROSOFT-CDO-ALLDAYEVENT:FALSE
SUMMARY:50th Anniversary - Elk Rapids Historical Society
DESCRIPTION:All day Community Celebration\n\nYou are Invited!\n\n50th Anniversary Celebration\n\nPlease join the Elk Rapids Area Historical Society on Sunday\, June 26\, 2022\, 12 noon to 4:00 p.m.\n\n\n\nMuseum Tours\n\n\n\nHands-on Activities for Kids\n\nMichigan-Made Picnic Lunch\n\n"Ask the Antique Expert"\n\nVintage Car Exhibit (weather permitting)\n\nMuseum Gift Shop Souvenirs (for purchase)\n\nSpecial Presentation at 1 pm by The Historical Society of Michigan\, Michigan Legislature & Guests\n\nThe event is FREE!\n\nFun for the Whole Family!
X-ALT-DESC;FMTTYPE=text/html:All day Community Celebration<br />\nYou are Invited!<br />\n50th Anniversary Celebration<br />\nPlease join the Elk Rapids Area Historical Society on Sunday\, June 26\, 2022\, 12 noon to 4:00 p.m.<br />\n<br />\nMuseum Tours<br />\n<br />\nHands-on Activities for Kids<br />\nMichigan-Made Picnic Lunch<br />\n&quot\;Ask the Antique Expert&quot\;<br />\nVintage Car Exhibit (weather permitting)<br />\nMuseum Gift Shop Souvenirs (for purchase)<br />\nSpecial Presentation at 1 pm by The Historical Society of Michigan\, Michigan Legislature &amp\; Guests<br />\nThe event is FREE!<br />\nFun for the Whole Family!<br />\n&nbsp\;<br />\n<br />\n<br />\n&nbsp\;
LOCATION:Located at 301 Traverse Street | Elk Rapids | www.elkrapidshistory.org
UID:e.2409.27839
SEQUENCE:3
DTSTAMP:20260420T202835Z
URL:https://business.elkrapidschamber.org/events/details/50th-anniversary-elk-rapids-historical-society-27839
END:VEVENT

END:VCALENDAR
