BEGIN:VCALENDAR
VERSION:2.0
PRODID:-//ChamberMaster//Event Calendar 2.0//EN
METHOD:PUBLISH
X-PUBLISHED-TTL:P3D
REFRESH-INTERVAL:P3D
CALSCALE:GREGORIAN
BEGIN:VEVENT
DTSTART:20220901T150000Z
DTEND:20220902T010000Z
X-MICROSOFT-CDO-ALLDAYEVENT:FALSE
SUMMARY:4th Annual Alzheimer's Awareness Event
DESCRIPTION:Short's Happy Hour Fundraiser\n\nWalk to End Alzheimer's\n\n$1.00 per pint donated to Alzheimer's Association of Michigan
X-ALT-DESC;FMTTYPE=text/html:Short&#39\;s Happy Hour Fundraiser<br />\nWalk to End Alzheimer&#39\;s<br />\n$1.00 per pint donated to Alzheimer&#39\;s Association of Michigan
LOCATION:Short's Pull Barn 211 Industrial Park Drive Elk Rapids\, MI 49629
UID:e.2409.30707
SEQUENCE:3
DTSTAMP:20260420T154401Z
URL:https://business.elkrapidschamber.org/events/details/4th-annual-alzheimer-s-awareness-event-30707
END:VEVENT

END:VCALENDAR
