BEGIN:VCALENDAR
VERSION:2.0
PRODID:-//ChamberMaster//Event Calendar 2.0//EN
METHOD:PUBLISH
X-PUBLISHED-TTL:P3D
REFRESH-INTERVAL:P3D
CALSCALE:GREGORIAN
BEGIN:VEVENT
DTSTART:20230603T213000Z
DTEND:20230604T030000Z
X-MICROSOFT-CDO-ALLDAYEVENT:FALSE
SUMMARY:4Front Foundation Evening on the Diamond Gala
DESCRIPTION:A baseball-themed benefit with all the glitz\, glamor\, and games.\n\n	Formal attire\n	Fireworks\n	Complimentary Beer & Wine\n	Casino Games\n	Silent Auction (3 amazing getaways!)\n	Special Guest\, Former Detroit Tigers player\, Lance Parrish
X-ALT-DESC;FMTTYPE=text/html:A baseball-themed benefit with all the glitz\, glamor\, and games.\n<ul>\n	<li>Formal attire</li>\n	<li>Fireworks</li>\n	<li>Complimentary Beer &amp\; Wine</li>\n	<li>Casino Games</li>\n	<li>Silent Auction (3 amazing getaways!)</li>\n	<li>Special Guest\, Former Detroit Tigers player\, Lance Parrish</li>\n</ul>\n
LOCATION:Turtle Creek Stadium Traverse City
UID:e.2409.37828
SEQUENCE:3
DTSTAMP:20260420T010057Z
URL:https://business.elkrapidschamber.org/events/details/4front-foundation-evening-on-the-diamond-gala-37828
END:VEVENT

END:VCALENDAR
