BEGIN:VCALENDAR
VERSION:2.0
PRODID:-//ChamberMaster//Event Calendar 2.0//EN
METHOD:PUBLISH
X-PUBLISHED-TTL:P3D
REFRESH-INTERVAL:P3D
CALSCALE:GREGORIAN
BEGIN:VEVENT
DTSTART:20191214T140000Z
DTEND:20191214T200000Z
X-MICROSOFT-CDO-ALLDAYEVENT:FALSE
SUMMARY:2nd Annual One Stop Christmas Shop
DESCRIPTION:Younique * Paparazzi * Avon * LuluRoe *   Color Street * Pampered Chef *    Tupperware  * Posh   * Magnolia & Vine * Comer Creations * God's Green Earth * Swan and Sparrow Travel * Scentsy * Lip Sense * Discovery Toys * Assorted Crafters * Dinger's Rock Shop * Mary Kay and more....
X-ALT-DESC;FMTTYPE=text/html:Younique * Paparazzi * Avon * LuluRoe * &nbsp\; Color Street * Pampered Chef * &nbsp\;&nbsp\; Tupperware&nbsp\; * Posh &nbsp\; * Magnolia &amp\; Vine * Comer Creations * God&#39\;s Green Earth * Swan and Sparrow Travel * Scentsy * Lip Sense * Discovery Toys * Assorted Crafters * Dinger&#39\;s Rock Shop * Mary Kay and more....
LOCATION:Historic Elk Rapids Town Hall 401 River Street Elk Rapids
UID:e.2409.22400
SEQUENCE:3
DTSTAMP:20260419T140816Z
URL:https://business.elkrapidschamber.org/events/details/2nd-annual-one-stop-christmas-shop-22400
END:VEVENT

END:VCALENDAR
