BEGIN:VCALENDAR
VERSION:2.0
PRODID:-//ChamberMaster//Event Calendar 2.0//EN
METHOD:PUBLISH
X-PUBLISHED-TTL:P3D
REFRESH-INTERVAL:P3D
CALSCALE:GREGORIAN
BEGIN:VEVENT
DTSTART:20220908T130000Z
DTEND:20220908T160000Z
X-MICROSOFT-CDO-ALLDAYEVENT:FALSE
SUMMARY:17th Annual Lake Association Summit
DESCRIPTION:Lake Association Summit - virtual\n\n\n\nThursday\, September 8\, 2022\n\n\n\n9:00am-12:00pm\n\n\n\nJoin us virtually for our 17th Annual Lake Association Summit to learn how your organization can best connect with your audience. There will also be breakout sessions on different water quality topics. Join us the following morning to network in person.
X-ALT-DESC;FMTTYPE=text/html:Lake Association Summit - virtual<br />\n<br />\nThursday\, September 8\, 2022<br />\n<br />\n9:00am-12:00pm<br />\n<br />\nJoin us virtually for our 17th Annual Lake Association Summit to learn how your organization can best connect with your audience. There will also be breakout sessions on different water quality topics. Join us the following morning to network in person.
LOCATION:
UID:e.2409.30299
SEQUENCE:3
DTSTAMP:20260420T154248Z
URL:https://business.elkrapidschamber.org/events/details/17th-annual-lake-association-summit-30299
END:VEVENT

END:VCALENDAR
