BEGIN:VCALENDAR
VERSION:2.0
PRODID:-//ChamberMaster//Event Calendar 2.0//EN
METHOD:PUBLISH
X-PUBLISHED-TTL:P3D
REFRESH-INTERVAL:P3D
CALSCALE:GREGORIAN
BEGIN:VEVENT
DTSTART:20230618T180000Z
DTEND:20230618T200000Z
X-MICROSOFT-CDO-ALLDAYEVENT:FALSE
SUMMARY:$145\,100 4G Surfaces Grand Prix
DESCRIPTION:Experience the excitement of Olympic-caliber show jumping at the $145\,100 4G Surfaces Grand Prix. Get ready for an action-packed event filled with thrilling equestrian performances\, delicious food and drink options\, and a variety of family-friendly activities. This week's event is dedicated to supporting Albion College. Sunday\, June 18\, 2:00 PM EDT (Gates open at noon)
X-ALT-DESC;FMTTYPE=text/html:Experience the excitement of Olympic-caliber show jumping at the $145\,100 4G Surfaces Grand Prix. Get ready for an action-packed event filled with thrilling equestrian performances\, delicious food and drink options\, and a variety of family-friendly activities. This week&#39\;s event is dedicated to supporting Albion College. Sunday\, June 18\, 2:00 PM EDT (Gates open at noon)
LOCATION:Flintfields Horse Park 6535 Bates Rd\, Williamsburg\, MI 49690
UID:e.2409.38079
SEQUENCE:3
DTSTAMP:20260420T010253Z
URL:https://business.elkrapidschamber.org/events/details/145-100-4g-surfaces-grand-prix-38079
END:VEVENT

END:VCALENDAR
