BEGIN:VCALENDAR
VERSION:2.0
PRODID:-//ChamberMaster//Event Calendar 2.0//EN
METHOD:PUBLISH
X-PUBLISHED-TTL:P3D
REFRESH-INTERVAL:P3D
CALSCALE:GREGORIAN
BEGIN:VEVENT
DTSTART:20230624T210000Z
DTEND:20230624T230000Z
X-MICROSOFT-CDO-ALLDAYEVENT:FALSE
SUMMARY:$100\,000 WCHR Hunter Spectacular
DESCRIPTION:Experience the excitement of high-class hunter competition at the $100\,000 WCHR Spectacular. Get ready for an action-packed event filled with thrilling equestrian performances\, delicious food and drink options\, and a variety of family-friendly activities. This week's event is dedicated to supporting Veterans Inspiring Veterans. Saturday\, June 24\, 5:00 PM EDT (Gates open at 3pm)
X-ALT-DESC;FMTTYPE=text/html:Experience the excitement of high-class hunter competition at the $100\,000 WCHR Spectacular. Get ready for an action-packed event filled with thrilling equestrian performances\, delicious food and drink options\, and a variety of family-friendly activities. This week&#39\;s event is dedicated to supporting Veterans Inspiring Veterans. Saturday\, June 24\, 5:00 PM EDT (Gates open at 3pm)
LOCATION:Flintfields Horse Park 6535 Bates Rd\, Williamsburg\, MI 49690
UID:e.2409.38080
SEQUENCE:3
DTSTAMP:20260420T010155Z
URL:https://business.elkrapidschamber.org/events/details/100-000-wchr-hunter-spectacular-38080
END:VEVENT

END:VCALENDAR
